BEGIN:VCALENDAR
VERSION:2.0
PRODID:-//Safe Haven Animal Sanctuary - ECPv6.15.20//NONSGML v1.0//EN
CALSCALE:GREGORIAN
METHOD:PUBLISH
X-ORIGINAL-URL:https://shaspets.com
X-WR-CALDESC:Events for Safe Haven Animal Sanctuary
REFRESH-INTERVAL;VALUE=DURATION:PT1H
X-Robots-Tag:noindex
X-PUBLISHED-TTL:PT1H
BEGIN:VTIMEZONE
TZID:UTC
BEGIN:STANDARD
TZOFFSETFROM:+0000
TZOFFSETTO:+0000
TZNAME:UTC
DTSTART:20140101T000000
END:STANDARD
END:VTIMEZONE
BEGIN:VEVENT
DTSTART;TZID=UTC:20150927T153000
DTEND;TZID=UTC:20150927T190000
DTSTAMP:20260423T185430
CREATED:20150909T170333Z
LAST-MODIFIED:20150910T155108Z
UID:18-1443367800-1443380400@shaspets.com
SUMMARY:Safe Haven Animal Sanctuary Pet Fashion Show
DESCRIPTION:Downtown Mall\, between Las Cruces Ave. & Griggs. Enter at La Placita Alley from Water St. for pets and their people\, and those who just want to watch. Come and strut your stuff with your mutt. Prizes in each of 5 categories. Vendors as well as a food trucks will be there. Proceeds benefit the animals at the Sanctuary. $3 entry fee. Registration at 3:30pm or pre-register at the Thrift Store.
URL:https://shaspets.com/calendar/safe-haven-animal-sanctuary-pet-fashion-show/
LOCATION:Downtown Mall\, Main Street (Downtown)\, Las Cruces\, NM\, 88001\, United States
CATEGORIES:Fashion Shows
ORGANIZER;CN="Safe Haven Animal Sanctuary":MAILTO:info@shaspets.com
END:VEVENT
END:VCALENDAR