BEGIN:VCALENDAR
VERSION:2.0
PRODID:-//Safe Haven Animal Sanctuary - ECPv6.15.20//NONSGML v1.0//EN
CALSCALE:GREGORIAN
METHOD:PUBLISH
X-WR-CALNAME:Safe Haven Animal Sanctuary
X-ORIGINAL-URL:https://shaspets.com
X-WR-CALDESC:Events for Safe Haven Animal Sanctuary
REFRESH-INTERVAL;VALUE=DURATION:PT1H
X-Robots-Tag:noindex
X-PUBLISHED-TTL:PT1H
BEGIN:VTIMEZONE
TZID:UTC
BEGIN:STANDARD
TZOFFSETFROM:+0000
TZOFFSETTO:+0000
TZNAME:UTC
DTSTART:20160101T000000
END:STANDARD
END:VTIMEZONE
BEGIN:VEVENT
DTSTART;TZID=UTC:20170701T100000
DTEND;TZID=UTC:20170701T140000
DTSTAMP:20260423T184226
CREATED:20170620T213139Z
LAST-MODIFIED:20170620T213139Z
UID:1761-1498903200-1498917600@shaspets.com
SUMMARY:Patriotic Photo Booth
DESCRIPTION:
URL:https://shaspets.com/calendar/patriotic-photo-booth-2/
LOCATION:Safe Haven Thrift Store\, 840 El Paseo Rd.\, Las Cruces\, NM\, 88001\, United States
CATEGORIES:Fundraiser,Pet Photos
END:VEVENT
BEGIN:VEVENT
DTSTART;TZID=UTC:20170211T110000
DTEND;TZID=UTC:20170211T170000
DTSTAMP:20260423T184226
CREATED:20170130T201701Z
LAST-MODIFIED:20170130T201701Z
UID:1419-1486810800-1486832400@shaspets.com
SUMMARY:SHAS Barnes & Noble Bookfair
DESCRIPTION:
URL:https://shaspets.com/calendar/shas-barnes-noble-bookfair/
LOCATION:NM
CATEGORIES:Fundraiser
END:VEVENT
END:VCALENDAR