BEGIN:VCALENDAR
VERSION:2.0
PRODID:-//Safe Haven Animal Sanctuary - ECPv6.15.20//NONSGML v1.0//EN
CALSCALE:GREGORIAN
METHOD:PUBLISH
X-WR-CALNAME:Safe Haven Animal Sanctuary
X-ORIGINAL-URL:https://shaspets.com
X-WR-CALDESC:Events for Safe Haven Animal Sanctuary
REFRESH-INTERVAL;VALUE=DURATION:PT1H
X-Robots-Tag:noindex
X-PUBLISHED-TTL:PT1H
BEGIN:VTIMEZONE
TZID:UTC
BEGIN:STANDARD
TZOFFSETFROM:+0000
TZOFFSETTO:+0000
TZNAME:UTC
DTSTART:20210101T000000
END:STANDARD
END:VTIMEZONE
BEGIN:VTIMEZONE
TZID:America/Chicago
BEGIN:DAYLIGHT
TZOFFSETFROM:-0600
TZOFFSETTO:-0500
TZNAME:CDT
DTSTART:20220313T080000
END:DAYLIGHT
BEGIN:STANDARD
TZOFFSETFROM:-0500
TZOFFSETTO:-0600
TZNAME:CST
DTSTART:20221106T070000
END:STANDARD
BEGIN:DAYLIGHT
TZOFFSETFROM:-0600
TZOFFSETTO:-0500
TZNAME:CDT
DTSTART:20230312T080000
END:DAYLIGHT
BEGIN:STANDARD
TZOFFSETFROM:-0500
TZOFFSETTO:-0600
TZNAME:CST
DTSTART:20231105T070000
END:STANDARD
BEGIN:DAYLIGHT
TZOFFSETFROM:-0600
TZOFFSETTO:-0500
TZNAME:CDT
DTSTART:20240310T080000
END:DAYLIGHT
BEGIN:STANDARD
TZOFFSETFROM:-0500
TZOFFSETTO:-0600
TZNAME:CST
DTSTART:20241103T070000
END:STANDARD
END:VTIMEZONE
BEGIN:VTIMEZONE
TZID:America/Denver
BEGIN:DAYLIGHT
TZOFFSETFROM:-0700
TZOFFSETTO:-0600
TZNAME:MDT
DTSTART:20220313T090000
END:DAYLIGHT
BEGIN:STANDARD
TZOFFSETFROM:-0600
TZOFFSETTO:-0700
TZNAME:MST
DTSTART:20221106T080000
END:STANDARD
BEGIN:DAYLIGHT
TZOFFSETFROM:-0700
TZOFFSETTO:-0600
TZNAME:MDT
DTSTART:20230312T090000
END:DAYLIGHT
BEGIN:STANDARD
TZOFFSETFROM:-0600
TZOFFSETTO:-0700
TZNAME:MST
DTSTART:20231105T080000
END:STANDARD
BEGIN:DAYLIGHT
TZOFFSETFROM:-0700
TZOFFSETTO:-0600
TZNAME:MDT
DTSTART:20240310T090000
END:DAYLIGHT
BEGIN:STANDARD
TZOFFSETFROM:-0600
TZOFFSETTO:-0700
TZNAME:MST
DTSTART:20241103T080000
END:STANDARD
END:VTIMEZONE
BEGIN:VEVENT
DTSTART;TZID=UTC:20251206T100000
DTEND;TZID=UTC:20251206T130000
DTSTAMP:20260423T174328
CREATED:20251204T025027Z
LAST-MODIFIED:20251204T025027Z
UID:7442-1765015200-1765026000@shaspets.com
SUMMARY:Tractor Supply Adoption Event & Donation Drive 12/6/25
DESCRIPTION:
URL:https://shaspets.com/calendar/tractor-supply-adoption-event-donation-drive-12-6-25/
LOCATION:Tractor Supply Co.\, 1440 W. Picacho Ave.\, Las Cruces\, NM\, 88005\, United States
END:VEVENT
BEGIN:VEVENT
DTSTART;TZID=UTC:20251101T120000
DTEND;TZID=UTC:20251101T150000
DTSTAMP:20260423T174328
CREATED:20251025T182757Z
LAST-MODIFIED:20251025T182757Z
UID:7423-1761998400-1762009200@shaspets.com
SUMMARY:SHAS Open House & Adopter Reunion 11/01/25
DESCRIPTION:
URL:https://shaspets.com/calendar/shas-open-house-adopter-reunion-11-01-25/
LOCATION:Safe Haven Animal Sanctuary\, 6890 Eagle Rd.\, Las Cruces\, NM\, 88012\, United States
ORGANIZER;CN="Safe Haven Animal Sanctuary":MAILTO:info@shaspets.com
END:VEVENT
BEGIN:VEVENT
DTSTART;TZID=UTC:20251011T090000
DTEND;TZID=UTC:20251011T130000
DTSTAMP:20260423T174328
CREATED:20251009T215130Z
LAST-MODIFIED:20251009T215130Z
UID:7415-1760173200-1760187600@shaspets.com
SUMMARY:SHAS Adoption Event at Los Leones de Mesilla Car Show 10/11/25
DESCRIPTION:
URL:https://shaspets.com/calendar/shas-adoption-event-at-los-leones-de-mesilla-car-show-10-11-25/
LOCATION:Mesilla Town Hall & J Paul Taylor Visitor Center\, 2231 Avenida de Mesilla\, Mesilla\, NM\, United States
END:VEVENT
BEGIN:VEVENT
DTSTART;TZID=UTC:20251002T173000
DTEND;TZID=UTC:20251002T203000
DTSTAMP:20260423T174328
CREATED:20250917T224637Z
LAST-MODIFIED:20250917T224637Z
UID:7397-1759426200-1759437000@shaspets.com
SUMMARY:Let's Toast the Tails! SHAS Annual Fundraiser
DESCRIPTION:
URL:https://shaspets.com/calendar/lets-toast-the-tails-shas-annual-fundraiser/
LOCATION:Grapevine Plaza\, 3900 W Picacho\, Las Cruces\, NM\, 88007\, United States
ORGANIZER;CN="Safe Haven Animal Sanctuary":MAILTO:info@shaspets.com
END:VEVENT
BEGIN:VEVENT
DTSTART;TZID=UTC:20250920T100000
DTEND;TZID=UTC:20250920T130000
DTSTAMP:20260423T174328
CREATED:20250917T223931Z
LAST-MODIFIED:20250917T223931Z
UID:7390-1758362400-1758373200@shaspets.com
SUMMARY:Tractor Supply Adoption Event & Donation Drive 9/20/25
DESCRIPTION:
URL:https://shaspets.com/calendar/tractor-supply-adoption-event-donation-drive-9-20-25/
LOCATION:Tractor Supply Co.\, 1440 W. Picacho Ave.\, Las Cruces\, NM\, 88005\, United States
END:VEVENT
BEGIN:VEVENT
DTSTART;TZID=UTC:20241102T120000
DTEND;TZID=UTC:20241102T150000
DTSTAMP:20260423T174328
CREATED:20241012T202403Z
LAST-MODIFIED:20241012T202403Z
UID:7292-1730548800-1730559600@shaspets.com
SUMMARY:SHAS Open House & Adopter Reunion 11/02/24
DESCRIPTION:
URL:https://shaspets.com/calendar/shas-open-house-adopter-reunion-11-02-24/
LOCATION:Safe Haven Animal Sanctuary\, 6890 Eagle Rd.\, Las Cruces\, NM\, 88012\, United States
ORGANIZER;CN="Safe Haven Animal Sanctuary":MAILTO:info@shaspets.com
END:VEVENT
BEGIN:VEVENT
DTSTART;TZID=UTC:20241017T173000
DTEND;TZID=UTC:20241017T203000
DTSTAMP:20260423T174328
CREATED:20241012T203548Z
LAST-MODIFIED:20241012T203548Z
UID:7299-1729186200-1729197000@shaspets.com
SUMMARY:Let's Toast the Tails!
DESCRIPTION:
URL:https://shaspets.com/calendar/lets-toast-the-tails/
LOCATION:D H Lescombes Winery & Bistro\, 1720 Avenida de Mesilla\, Las Cruces\, NM\, 88005\, United States
ORGANIZER;CN="Safe Haven Animal Sanctuary":MAILTO:info@shaspets.com
END:VEVENT
BEGIN:VEVENT
DTSTART;TZID=UTC:20241012T090000
DTEND;TZID=UTC:20241012T130000
DTSTAMP:20260423T174328
CREATED:20241008T221201Z
LAST-MODIFIED:20241008T222420Z
UID:7268-1728723600-1728738000@shaspets.com
SUMMARY:Sisbarro Oktoberfest Car Show\, Swap Meet & Adoption Event
DESCRIPTION:
URL:https://shaspets.com/calendar/sisbarro-oktoberfest-car-show-swap-meet-adoption-event/
LOCATION:Sisbarro VW Autoworld\, 1115 S Valley Dr.\, Las Cruces\, NM\, 88005\, United States
END:VEVENT
BEGIN:VEVENT
DTSTART;TZID=UTC:20240817T090000
DTEND;TZID=UTC:20240817T130000
DTSTAMP:20260423T174328
CREATED:20240808T195051Z
LAST-MODIFIED:20240808T195051Z
UID:7247-1723885200-1723899600@shaspets.com
SUMMARY:Donate Life Car Show & Adoption Event 8/17/24
DESCRIPTION:
URL:https://shaspets.com/calendar/donate-life-car-show-adoption-event-8-17-24/
LOCATION:Young Park\, 1905 Nevada Ave.\, Las Cruces\, 88001\, United States
ORGANIZER;CN="Las Cruces Transplant Group":MAILTO:lctransplantcarshow@gmail.com
END:VEVENT
BEGIN:VEVENT
DTSTART;TZID=UTC:20240615T090000
DTEND;TZID=UTC:20240615T130000
DTSTAMP:20260423T174328
CREATED:20240613T195411Z
LAST-MODIFIED:20240613T195411Z
UID:7239-1718442000-1718456400@shaspets.com
SUMMARY:Ashley Adoption Event 6/15/24
DESCRIPTION:
URL:https://shaspets.com/calendar/ashley-adoption-event-6-15-24/
LOCATION:Ashley HomeStore\, 3299 Del Rey Blvd.\, Las Cruces\, NM\, 88012\, United States
END:VEVENT
BEGIN:VEVENT
DTSTART;TZID=UTC:20240517T100000
DTEND;TZID=UTC:20240517T140000
DTSTAMP:20260423T174328
CREATED:20240327T233711Z
LAST-MODIFIED:20240410T224505Z
UID:7216-1715940000-1715954400@shaspets.com
SUMMARY:Carson Wealth & E-Law Adoption & Shred Event 5/17/24
DESCRIPTION:
URL:https://shaspets.com/calendar/carson-wealth-e-law-adoption-shred-event-5-17-24/
LOCATION:Carson Wealth\, 1340 Picacho Hills Drive\, Las Cruces\, 88007\, United States
END:VEVENT
BEGIN:VEVENT
DTSTART;TZID=UTC:20240420T093000
DTEND;TZID=UTC:20240420T133000
DTSTAMP:20260423T174328
CREATED:20240410T230030Z
LAST-MODIFIED:20240410T230116Z
UID:7226-1713605400-1713619800@shaspets.com
SUMMARY:Veterans Car Show & Adoption Event 4/20/2024
DESCRIPTION:﻿﻿
URL:https://shaspets.com/calendar/veterans-car-show-adoption-event/
LOCATION:Casa Autoplex Las Cruces\, 470 W Boutz Road\, Las Cruces\, NM\, 88005\, United States
END:VEVENT
BEGIN:VEVENT
DTSTART;TZID=UTC:20240316T100000
DTEND;TZID=UTC:20240316T140000
DTSTAMP:20260423T174328
CREATED:20240314T231436Z
LAST-MODIFIED:20240314T231436Z
UID:7209-1710583200-1710597600@shaspets.com
SUMMARY:Ashley Adoption Event 3/16/24
DESCRIPTION:
URL:https://shaspets.com/calendar/ashley-adoption-event-3-16-24/
LOCATION:Ashley HomeStore\, 3299 Del Rey Blvd.\, Las Cruces\, NM\, 88012\, United States
END:VEVENT
BEGIN:VEVENT
DTSTART;TZID=UTC:20240217T100000
DTEND;TZID=UTC:20240217T140000
DTSTAMP:20260423T174328
CREATED:20240217T013554Z
LAST-MODIFIED:20240217T013554Z
UID:7201-1708164000-1708178400@shaspets.com
SUMMARY:Ashley Adoption Event 2/17/24
DESCRIPTION:
URL:https://shaspets.com/calendar/ashley-adoption-event-2-17-24/
LOCATION:Ashley HomeStore\, 3299 Del Rey Blvd.\, Las Cruces\, NM\, 88012\, United States
END:VEVENT
BEGIN:VEVENT
DTSTART;TZID=UTC:20240213T180000
DTEND;TZID=UTC:20240213T180000
DTSTAMP:20260423T174328
CREATED:20240211T000810Z
LAST-MODIFIED:20240211T000810Z
UID:7195-1707847200-1707847200@shaspets.com
SUMMARY:BRI BAGWELL GALENTINE'S DAY LIVESTREAM 2/13/24
DESCRIPTION:
URL:https://shaspets.com/calendar/bri-bagwell-galentines-day-livestream-2-13-24/
LOCATION:NM
END:VEVENT
BEGIN:VEVENT
DTSTART;TZID=UTC:20240120T100000
DTEND;TZID=UTC:20240120T140000
DTSTAMP:20260423T174328
CREATED:20240120T023558Z
LAST-MODIFIED:20240120T033854Z
UID:7188-1705744800-1705759200@shaspets.com
SUMMARY:Ashley Adoption Event 1/20/24
DESCRIPTION:
URL:https://shaspets.com/calendar/ashley-adoption-event-1-20-24/
LOCATION:Ashley HomeStore\, 3299 Del Rey Blvd.\, Las Cruces\, NM\, 88012\, United States
END:VEVENT
BEGIN:VEVENT
DTSTART;TZID=UTC:20231202T100000
DTEND;TZID=UTC:20231202T140000
DTSTAMP:20260423T174328
CREATED:20231202T164942Z
LAST-MODIFIED:20231202T164942Z
UID:7182-1701511200-1701525600@shaspets.com
SUMMARY:Walmart Neighborhood Market Donation Drive 12/2/23
DESCRIPTION:
URL:https://shaspets.com/calendar/walmart-neighborhood-market-donation-drive-12-2-23/
LOCATION:Walmart Neighborhood Market\, 150 Sonoma Ranch Blvd\, Las Cruces\, NM\, 88011\, United States
END:VEVENT
BEGIN:VEVENT
DTSTART;TZID=UTC:20231118T100000
DTEND;TZID=UTC:20231118T140000
DTSTAMP:20260423T174328
CREATED:20231117T205314Z
LAST-MODIFIED:20231117T205314Z
UID:7177-1700301600-1700316000@shaspets.com
SUMMARY:Ashley Adoption Event 11/18/923
DESCRIPTION:
URL:https://shaspets.com/calendar/ashley-adoption-event-11-18-923/
LOCATION:Ashley HomeStore\, 3299 Del Rey Blvd.\, Las Cruces\, NM\, 88012\, United States
END:VEVENT
BEGIN:VEVENT
DTSTART;TZID=UTC:20231020T120000
DTEND;TZID=UTC:20231020T180000
DTSTAMP:20260423T174328
CREATED:20230901T005505Z
LAST-MODIFIED:20230901T005505Z
UID:7144-1697803200-1697824800@shaspets.com
SUMMARY:SHAS Putts Fore Paws Charity Golf Tournament
DESCRIPTION:
URL:https://shaspets.com/calendar/shas-putts-fore-paws-charity-golf-tournament-2/
LOCATION:Sonoma Ranch Golf Course\, 1274 Golf Club Rd\, Las Cruces\, NM\, 88011\, United States
ORGANIZER;CN="Safe Haven Animal Sanctuary":MAILTO:info@shaspets.com
END:VEVENT
BEGIN:VEVENT
DTSTART;TZID=UTC:20231014T100000
DTEND;TZID=UTC:20231014T140000
DTSTAMP:20260423T174328
CREATED:20231013T024310Z
LAST-MODIFIED:20231013T024310Z
UID:7168-1697277600-1697292000@shaspets.com
SUMMARY:Walmart Neighborhood Market Donation Drive 10/14/23
DESCRIPTION:
URL:https://shaspets.com/calendar/walmart-neighborhood-market-donation-drive-10-14-23/
LOCATION:Walmart Neighborhood Market\, 150 Sonoma Ranch Blvd\, Las Cruces\, NM\, 88011\, United States
END:VEVENT
BEGIN:VEVENT
DTSTART;TZID=UTC:20230916T100000
DTEND;TZID=UTC:20230916T140000
DTSTAMP:20260423T174328
CREATED:20230914T235235Z
LAST-MODIFIED:20230914T235235Z
UID:7153-1694858400-1694872800@shaspets.com
SUMMARY:Ashley HomeStore Adoption Event 9/16/23
DESCRIPTION:
URL:https://shaspets.com/calendar/ashley-homestore-adoption-event-9-16-23/
LOCATION:Ashley HomeStore\, 3299 Del Rey Blvd.\, Las Cruces\, NM\, 88012\, United States
ORGANIZER;CN="Safe Haven Animal Sanctuary":MAILTO:info@shaspets.com
END:VEVENT
BEGIN:VEVENT
DTSTART;TZID=UTC:20230819T100000
DTEND;TZID=UTC:20230819T140000
DTSTAMP:20260423T174328
CREATED:20230819T030040Z
LAST-MODIFIED:20230819T030040Z
UID:7136-1692439200-1692453600@shaspets.com
SUMMARY:Ashley HomeStore Adoption Event 8/19/23
DESCRIPTION:
URL:https://shaspets.com/calendar/ashley-homestore-adoption-event-8-19-23/
LOCATION:Ashley HomeStore\, 3299 Del Rey Blvd.\, Las Cruces\, NM\, 88012\, United States
ORGANIZER;CN="Safe Haven Animal Sanctuary":MAILTO:info@shaspets.com
END:VEVENT
BEGIN:VEVENT
DTSTART;TZID=UTC:20230428T100000
DTEND;TZID=UTC:20230428T140000
DTSTAMP:20260423T174328
CREATED:20230424T230806Z
LAST-MODIFIED:20230424T230806Z
UID:7113-1682676000-1682690400@shaspets.com
SUMMARY:Carson Wealth Adoption & Shred Event 4/28/23
DESCRIPTION:
URL:https://shaspets.com/calendar/carson-wealth-adoption-shred-event-4-28-23/
LOCATION:Carson Wealth\, 1340 Picacho Hills Drive\, Las Cruces\, 88007\, United States
ORGANIZER;CN="Safe Haven Animal Sanctuary":MAILTO:info@shaspets.com
END:VEVENT
BEGIN:VEVENT
DTSTART;TZID=America/Chicago:20230415T100000
DTEND;TZID=America/Chicago:20230415T140000
DTSTAMP:20260423T174328
CREATED:20230413T192320Z
LAST-MODIFIED:20230413T192320Z
UID:7108-1681552800-1681567200@shaspets.com
SUMMARY:Ashley HomeStore Adoption Event 4/15/23
DESCRIPTION:
URL:https://shaspets.com/calendar/ashley-homestore-adoption-event-4-15-23/
LOCATION:Ashley HomeStore\, 3299 Del Rey Blvd.\, Las Cruces\, NM\, 88012\, United States
ORGANIZER;CN="Safe Haven Animal Sanctuary":MAILTO:info@shaspets.com
END:VEVENT
BEGIN:VEVENT
DTSTART;TZID=UTC:20230318T100000
DTEND;TZID=UTC:20230318T140000
DTSTAMP:20260423T174328
CREATED:20230312T023908Z
LAST-MODIFIED:20230312T023908Z
UID:7096-1679133600-1679148000@shaspets.com
SUMMARY:Walmart Neighborhood Market Donation Drive 3/18/23
DESCRIPTION:
URL:https://shaspets.com/calendar/walmart-neighborhood-market-donation-drive-3-18-23/
LOCATION:Walmart Neighborhood Market\, 150 Sonoma Ranch Blvd\, Las Cruces\, NM\, 88011\, United States
END:VEVENT
BEGIN:VEVENT
DTSTART;TZID=America/Denver:20230218T100000
DTEND;TZID=America/Denver:20230218T140000
DTSTAMP:20260423T174328
CREATED:20230217T213648Z
LAST-MODIFIED:20230217T213648Z
UID:7092-1676714400-1676728800@shaspets.com
SUMMARY:Ashley HomeStore Adoption Event 2/18/23
DESCRIPTION:
URL:https://shaspets.com/calendar/ashley-homestore-adoption-event-2-18-23/
LOCATION:Ashley HomeStore\, 3299 Del Rey Blvd.\, Las Cruces\, NM\, 88012\, United States
END:VEVENT
BEGIN:VEVENT
DTSTART;TZID=UTC:20230121T100000
DTEND;TZID=UTC:20230121T140000
DTSTAMP:20260423T174328
CREATED:20230120T033647Z
LAST-MODIFIED:20230120T033647Z
UID:7085-1674295200-1674309600@shaspets.com
SUMMARY:Ashley HomeStore Adoption Event 1/21/23
DESCRIPTION:
URL:https://shaspets.com/calendar/ashley-homestore-adoption-event-1-21-23/
LOCATION:Ashley HomeStore\, 3299 Del Rey Blvd.\, Las Cruces\, NM\, 88012\, United States
ORGANIZER;CN="Safe Haven Animal Sanctuary":MAILTO:info@shaspets.com
END:VEVENT
BEGIN:VEVENT
DTSTART;TZID=UTC:20221105T120000
DTEND;TZID=UTC:20221105T150000
DTSTAMP:20260423T174328
CREATED:20221030T175230Z
LAST-MODIFIED:20221104T222907Z
UID:7061-1667649600-1667660400@shaspets.com
SUMMARY:SHAS Open House 11/05/22
DESCRIPTION:
URL:https://shaspets.com/calendar/shas-open-house-11-05-22/
LOCATION:Safe Haven Animal Sanctuary\, 6890 Eagle Rd.\, Las Cruces\, NM\, 88012\, United States
ORGANIZER;CN="Safe Haven Animal Sanctuary":MAILTO:info@shaspets.com
END:VEVENT
BEGIN:VEVENT
DTSTART;TZID=UTC:20221021T120000
DTEND;TZID=UTC:20221021T173000
DTSTAMP:20260423T174328
CREATED:20221015T025633Z
LAST-MODIFIED:20221015T025633Z
UID:7053-1666353600-1666373400@shaspets.com
SUMMARY:Putts Fore Paws Charity Golf Tournament
DESCRIPTION:
URL:https://shaspets.com/calendar/putts-fore-paws-charity-golf-tournament/
LOCATION:Sonoma Ranch Golf Course\, 1274 Golf Club Rd\, Las Cruces\, NM\, 88011\, United States
ORGANIZER;CN="Safe Haven Animal Sanctuary":MAILTO:info@shaspets.com
END:VEVENT
BEGIN:VEVENT
DTSTART;TZID=UTC:20221015T100000
DTEND;TZID=UTC:20221015T140000
DTSTAMP:20260423T174328
CREATED:20221015T024806Z
LAST-MODIFIED:20221015T024806Z
UID:7050-1665828000-1665842400@shaspets.com
SUMMARY:Ashley HomeStore Adoption Event 10/15/22
DESCRIPTION:
URL:https://shaspets.com/calendar/ashley-homestore-adoption-event-10-15-22/
LOCATION:Ashley HomeStore\, 3299 Del Rey Blvd.\, Las Cruces\, NM\, 88012\, United States
ORGANIZER;CN="Safe Haven Animal Sanctuary":MAILTO:info@shaspets.com
END:VEVENT
END:VCALENDAR