BEGIN:VCALENDAR
VERSION:2.0
PRODID:-//Safe Haven Animal Sanctuary - ECPv6.15.20//NONSGML v1.0//EN
CALSCALE:GREGORIAN
METHOD:PUBLISH
X-WR-CALNAME:Safe Haven Animal Sanctuary
X-ORIGINAL-URL:https://shaspets.com
X-WR-CALDESC:Events for Safe Haven Animal Sanctuary
REFRESH-INTERVAL;VALUE=DURATION:PT1H
X-Robots-Tag:noindex
X-PUBLISHED-TTL:PT1H
BEGIN:VTIMEZONE
TZID:UTC
BEGIN:STANDARD
TZOFFSETFROM:+0000
TZOFFSETTO:+0000
TZNAME:UTC
DTSTART:20170101T000000
END:STANDARD
END:VTIMEZONE
BEGIN:VEVENT
DTSTART;TZID=UTC:20190824T103000
DTEND;TZID=UTC:20190824T143000
DTSTAMP:20260425T155821
CREATED:20190811T200747Z
LAST-MODIFIED:20190811T200747Z
UID:6287-1566642600-1566657000@shaspets.com
SUMMARY:PetSmart Adoptions
DESCRIPTION:
URL:https://shaspets.com/calendar/petsmart-adoptions-18/
LOCATION:PetSmart\, 2200 E Lohman\, Las Cruces\, 88001\, United States
ORGANIZER;CN="Safe Haven Animal Sanctuary":MAILTO:info@shaspets.com
END:VEVENT
BEGIN:VEVENT
DTSTART;TZID=UTC:20190801T160000
DTEND;TZID=UTC:20190801T190000
DTSTAMP:20260425T155821
CREATED:20190731T214144Z
LAST-MODIFIED:20190731T214144Z
UID:6267-1564675200-1564686000@shaspets.com
SUMMARY:Rudy's to the Rescue Social & Donation Event
DESCRIPTION:
URL:https://shaspets.com/calendar/rudys-to-the-rescue-social-donation-event/
LOCATION:Rudy’s Bar-B-Q\, 1020 N. Telshor Blvd.\, Las Cruces\, NM\, 88011\, United States
ORGANIZER;CN="Safe Haven Animal Sanctuary":MAILTO:info@shaspets.com
END:VEVENT
BEGIN:VEVENT
DTSTART;TZID=UTC:20190727T103000
DTEND;TZID=UTC:20190727T143000
DTSTAMP:20260425T155821
CREATED:20190715T232648Z
LAST-MODIFIED:20190715T232648Z
UID:6257-1564223400-1564237800@shaspets.com
SUMMARY:PetSmart Adoptions
DESCRIPTION:
URL:https://shaspets.com/calendar/petsmart-adoptions-17/
LOCATION:PetSmart\, 2200 E Lohman\, Las Cruces\, 88001\, United States
END:VEVENT
BEGIN:VEVENT
DTSTART;TZID=UTC:20190629T103000
DTEND;TZID=UTC:20190629T143000
DTSTAMP:20260425T155821
CREATED:20190530T222304Z
LAST-MODIFIED:20190530T222304Z
UID:6209-1561804200-1561818600@shaspets.com
SUMMARY:Walmart Donation Drive
DESCRIPTION:
URL:https://shaspets.com/calendar/walmart-donation-drive-7/
LOCATION:Walmart Neighborhood Market\, 150 Sonoma Ranch Blvd\, Las Cruces\, NM\, 88011\, United States
ORGANIZER;CN="Safe Haven Animal Sanctuary":MAILTO:info@shaspets.com
END:VEVENT
BEGIN:VEVENT
DTSTART;TZID=UTC:20190629T100000
DTEND;TZID=UTC:20190629T140000
DTSTAMP:20260425T155821
CREATED:20190530T222616Z
LAST-MODIFIED:20190530T222616Z
UID:6214-1561802400-1561816800@shaspets.com
SUMMARY:Patriotic Photo Booth
DESCRIPTION:
URL:https://shaspets.com/calendar/patriotic-photo-booth-4/
LOCATION:Safe Haven Thrift Store\, 840 El Paseo Rd.\, Las Cruces\, NM\, 88001\, United States
END:VEVENT
BEGIN:VEVENT
DTSTART;TZID=UTC:20190622T103000
DTEND;TZID=UTC:20190622T143000
DTSTAMP:20260425T155821
CREATED:20190614T204245Z
LAST-MODIFIED:20190614T204245Z
UID:6222-1561199400-1561213800@shaspets.com
SUMMARY:PetSmart Adoptions
DESCRIPTION:
URL:https://shaspets.com/calendar/petsmart-adoptions-16/
LOCATION:PetSmart\, 2200 E Lohman\, Las Cruces\, 88001\, United States
ORGANIZER;CN="Safe Haven Animal Sanctuary":MAILTO:info@shaspets.com
END:VEVENT
BEGIN:VEVENT
DTSTART;TZID=UTC:20190606T160000
DTEND;TZID=UTC:20190606T190000
DTSTAMP:20260425T155821
CREATED:20190530T221710Z
LAST-MODIFIED:20190530T221710Z
UID:6205-1559836800-1559847600@shaspets.com
SUMMARY:Rudy's to the Rescue Donation Promotion
DESCRIPTION:
URL:https://shaspets.com/calendar/rudys-to-the-rescue-donation-promotion/
LOCATION:Rudy’s Bar-B-Q\, 1020 N. Telshor Blvd.\, Las Cruces\, NM\, 88011\, United States
ORGANIZER;CN="Safe Haven Animal Sanctuary":MAILTO:info@shaspets.com
END:VEVENT
BEGIN:VEVENT
DTSTART;TZID=UTC:20190525T103000
DTEND;TZID=UTC:20190525T143000
DTSTAMP:20260425T155821
CREATED:20190424T180146Z
LAST-MODIFIED:20190512T023806Z
UID:6161-1558780200-1558794600@shaspets.com
SUMMARY:Pet Smart Adoption Event
DESCRIPTION:
URL:https://shaspets.com/calendar/pet-smart-adoption-event/
LOCATION:PetSmart\, 2200 E Lohman\, Las Cruces\, 88001\, United States
ORGANIZER;CN="Safe Haven Animal Sanctuary":MAILTO:info@shaspets.com
END:VEVENT
BEGIN:VEVENT
DTSTART;TZID=UTC:20190518T100000
DTEND;TZID=UTC:20190518T140000
DTSTAMP:20260425T155821
CREATED:20190515T022738Z
LAST-MODIFIED:20190515T022738Z
UID:6192-1558173600-1558188000@shaspets.com
SUMMARY:SHAS Barnes & Noble Bookfair
DESCRIPTION:
URL:https://shaspets.com/calendar/shas-barnes-noble-bookfair-7/
LOCATION:Barnes & Noble\, Mesilla Valley Mall\, Las Cruces\, NM\, 88011
ORGANIZER;CN="Safe Haven Animal Sanctuary":MAILTO:info@shaspets.com
END:VEVENT
BEGIN:VEVENT
DTSTART;TZID=UTC:20190509T160000
DTEND;TZID=UTC:20190509T190000
DTSTAMP:20260425T155821
CREATED:20190424T174949Z
LAST-MODIFIED:20190424T174949Z
UID:6152-1557417600-1557428400@shaspets.com
SUMMARY:Rudy's to the Rescue Adoption Promotion
DESCRIPTION:
URL:https://shaspets.com/calendar/rudys-to-the-rescue-adoption-promotion-10/
LOCATION:Rudy’s Bar-B-Q\, 1020 N. Telshor Blvd.\, Las Cruces\, NM\, 88011\, United States
ORGANIZER;CN="Safe Haven Animal Sanctuary":MAILTO:info@shaspets.com
END:VEVENT
BEGIN:VEVENT
DTSTART;TZID=UTC:20190504T100000
DTEND;TZID=UTC:20190504T140000
DTSTAMP:20260425T155821
CREATED:20190424T175352Z
LAST-MODIFIED:20190424T175352Z
UID:6156-1556964000-1556978400@shaspets.com
SUMMARY:Better Life Adoption Event
DESCRIPTION:
URL:https://shaspets.com/calendar/better-life-adoption-event-2/
LOCATION:Better Life Natural Pet Foods\, 315 Telshor Blvd\, Las Cruces\, NM\, 88011\, United States
ORGANIZER;CN="Safe Haven Animal Sanctuary":MAILTO:info@shaspets.com
END:VEVENT
BEGIN:VEVENT
DTSTART;TZID=UTC:20190502T173000
DTEND;TZID=UTC:20190502T203000
DTSTAMP:20260425T155821
CREATED:20190424T174603Z
LAST-MODIFIED:20190424T174603Z
UID:6148-1556818200-1556829000@shaspets.com
SUMMARY:9th Annual "Wineing" for the Animals Fundraiser
DESCRIPTION: 
URL:https://shaspets.com/calendar/9th-annual-wineing-for-the-animals-fundraiser/
LOCATION:NM
ORGANIZER;CN="Safe Haven Animal Sanctuary":MAILTO:info@shaspets.com
END:VEVENT
BEGIN:VEVENT
DTSTART;TZID=UTC:20190427T103000
DTEND;TZID=UTC:20190427T143000
DTSTAMP:20260425T155821
CREATED:20190401T194925Z
LAST-MODIFIED:20190401T194925Z
UID:6114-1556361000-1556375400@shaspets.com
SUMMARY:PetSmart Adoptions
DESCRIPTION:
URL:https://shaspets.com/calendar/petsmart-adoptions-15/
LOCATION:PetSmart\, 2200 E Lohman\, Las Cruces\, 88001\, United States
ORGANIZER;CN="Safe Haven Animal Sanctuary":MAILTO:info@shaspets.com
END:VEVENT
BEGIN:VEVENT
DTSTART;TZID=UTC:20190420T080000
DTEND;TZID=UTC:20190420T120000
DTSTAMP:20260425T155821
CREATED:20190416T232642Z
LAST-MODIFIED:20190416T232642Z
UID:6137-1555747200-1555761600@shaspets.com
SUMMARY:SHAS at Southern NM Earth Day 2019
DESCRIPTION:
URL:https://shaspets.com/calendar/shas-at-southern-nm-earth-day-2019/
LOCATION:Plaza de Las Cruces\, 100 N Main St\, Las Cruces\, NM\, 88001\, United States
ORGANIZER;CN="City of Las Cruces":MAILTO:llarocque@las-cruces.org
END:VEVENT
BEGIN:VEVENT
DTSTART;TZID=UTC:20190413T090000
DTEND;TZID=UTC:20190413T130000
DTSTAMP:20260425T155821
CREATED:20190329T000354Z
LAST-MODIFIED:20190329T000354Z
UID:6110-1555146000-1555160400@shaspets.com
SUMMARY:Courtesy Chip Check at Farmers Market
DESCRIPTION:
URL:https://shaspets.com/calendar/courtesy-chip-check-at-farmers-market-3/
LOCATION:Downtown Las Cruces Farmers & Crafts Market\, Downtown (South End)\, Las Cruces\, NM\, 88001
END:VEVENT
BEGIN:VEVENT
DTSTART;TZID=UTC:20190406T090000
DTEND;TZID=UTC:20190406T130000
DTSTAMP:20260425T155821
CREATED:20190328T235606Z
LAST-MODIFIED:20190328T235606Z
UID:6102-1554541200-1554555600@shaspets.com
SUMMARY:8th Annual Volunteer Fair & Giving Day
DESCRIPTION:
URL:https://shaspets.com/calendar/8th-annual-volunteer-fair-giving-day/
LOCATION:Plaza de Las Cruces\, 100 N Main St\, Las Cruces\, NM\, 88001\, United States
ORGANIZER;CN="City of Las Cruces Network Volunteer Center":MAILTO:rsteinmetz@las-cruces.org
END:VEVENT
BEGIN:VEVENT
DTSTART;TZID=UTC:20190404T160000
DTEND;TZID=UTC:20190404T190000
DTSTAMP:20260425T155821
CREATED:20190328T204526Z
LAST-MODIFIED:20190328T204526Z
UID:6098-1554393600-1554404400@shaspets.com
SUMMARY:Rudy's To The Rescue Adoption Promotion
DESCRIPTION:
URL:https://shaspets.com/calendar/rudys-to-the-rescue-adoption-promotion-9/
LOCATION:Rudy’s Bar-B-Q\, 1020 N. Telshor Blvd.\, Las Cruces\, NM\, 88011\, United States
ORGANIZER;CN="Safe Haven Animal Sanctuary":MAILTO:info@shaspets.com
END:VEVENT
BEGIN:VEVENT
DTSTART;TZID=UTC:20190330T100000
DTEND;TZID=UTC:20190330T140000
DTSTAMP:20260425T155821
CREATED:20190303T220638Z
LAST-MODIFIED:20190303T220638Z
UID:6052-1553940000-1553954400@shaspets.com
SUMMARY:Tractor Supply Adoptions
DESCRIPTION:
URL:https://shaspets.com/calendar/tractor-supply-adoptions-2/
LOCATION:Tractor Supply Co.\, 1440 W. Picacho Ave.\, Las Cruces\, NM\, 88005\, United States
ORGANIZER;CN="Safe Haven Animal Sanctuary":MAILTO:info@shaspets.com
END:VEVENT
BEGIN:VEVENT
DTSTART;TZID=UTC:20190323T103000
DTEND;TZID=UTC:20190323T143000
DTSTAMP:20260425T155821
CREATED:20190305T234551Z
LAST-MODIFIED:20190312T215122Z
UID:6057-1553337000-1553351400@shaspets.com
SUMMARY:Walmart Donation Drive
DESCRIPTION:
URL:https://shaspets.com/calendar/walmart-donation-drive-6/
LOCATION:Walmart Neighborhood Market\, 150 Sonoma Ranch Blvd\, Las Cruces\, NM\, 88011\, United States
ORGANIZER;CN="Safe Haven Animal Sanctuary":MAILTO:info@shaspets.com
END:VEVENT
BEGIN:VEVENT
DTSTART;TZID=UTC:20190323T103000
DTEND;TZID=UTC:20190323T143000
DTSTAMP:20260425T155821
CREATED:20190303T211941Z
LAST-MODIFIED:20190303T211941Z
UID:6048-1553337000-1553351400@shaspets.com
SUMMARY:PetSmart Adoptions
DESCRIPTION:
URL:https://shaspets.com/calendar/petsmart-adoptions-14/
LOCATION:PetSmart\, 2200 E Lohman\, Las Cruces\, 88001\, United States
ORGANIZER;CN="Safe Haven Animal Sanctuary":MAILTO:info@shaspets.com
END:VEVENT
BEGIN:VEVENT
DTSTART;TZID=UTC:20190309T090000
DTEND;TZID=UTC:20190309T130000
DTSTAMP:20260425T155821
CREATED:20190303T210135Z
LAST-MODIFIED:20190303T210135Z
UID:6042-1552122000-1552136400@shaspets.com
SUMMARY:Courtesy Chip Check at Farmers Market
DESCRIPTION:
URL:https://shaspets.com/calendar/courtesy-chip-check-at-farmers-market-2/
LOCATION:Downtown Las Cruces Farmers & Crafts Market\, Downtown (South End)\, Las Cruces\, NM\, 88001
ORGANIZER;CN="Safe Haven Animal Sanctuary":MAILTO:info@shaspets.com
END:VEVENT
BEGIN:VEVENT
DTSTART;TZID=UTC:20190307T160000
DTEND;TZID=UTC:20190307T190000
DTSTAMP:20260425T155821
CREATED:20190303T205010Z
LAST-MODIFIED:20190303T205010Z
UID:6038-1551974400-1551985200@shaspets.com
SUMMARY:Rudy's to the Rescue Adoption Promotion
DESCRIPTION:
URL:https://shaspets.com/calendar/rudys-to-the-rescue-adoption-promotion-8/
LOCATION:Rudy’s Bar-B-Q\, 1020 N. Telshor Blvd.\, Las Cruces\, NM\, 88011\, United States
ORGANIZER;CN="Safe Haven Animal Sanctuary":MAILTO:info@shaspets.com
END:VEVENT
BEGIN:VEVENT
DTSTART;TZID=UTC:20190223T103000
DTEND;TZID=UTC:20190223T143000
DTSTAMP:20260425T155821
CREATED:20190227T041409Z
LAST-MODIFIED:20190227T041409Z
UID:6034-1550917800-1550932200@shaspets.com
SUMMARY:PetSmart Adoptions
DESCRIPTION:
URL:https://shaspets.com/calendar/petsmart-adoptions-13/
LOCATION:PetSmart\, 2200 E Lohman\, Las Cruces\, 88001\, United States
ORGANIZER;CN="Safe Haven Animal Sanctuary":MAILTO:info@shaspets.com
END:VEVENT
BEGIN:VEVENT
DTSTART;TZID=UTC:20190223T080000
DTEND;TZID=UTC:20190223T180000
DTSTAMP:20260425T155821
CREATED:20190121T033537Z
LAST-MODIFIED:20190121T033537Z
UID:5961-1550908800-1550944800@shaspets.com
SUMMARY:SNIP SNIP HOORAY! Low-Cost Spay/Neuter Clinic
DESCRIPTION:
URL:https://shaspets.com/calendar/snip-snip-hooray-low-cost-spay-neuter-clinic-4/
LOCATION:NM
ORGANIZER;CN="Safe Haven Animal Sanctuary":MAILTO:info@shaspets.com
END:VEVENT
BEGIN:VEVENT
DTSTART;TZID=UTC:20190222T080000
DTEND;TZID=UTC:20190222T180000
DTSTAMP:20260425T155821
CREATED:20190121T033404Z
LAST-MODIFIED:20190121T033404Z
UID:5957-1550822400-1550858400@shaspets.com
SUMMARY:SNIP SNIP HOORAY! Low-Cost Spay/Neuter Clinic
DESCRIPTION:
URL:https://shaspets.com/calendar/snip-snip-hooray-low-cost-spay-neuter-clinic-3/
LOCATION:NM
ORGANIZER;CN="Safe Haven Animal Sanctuary":MAILTO:info@shaspets.com
END:VEVENT
BEGIN:VEVENT
DTSTART;TZID=UTC:20190209T090000
DTEND;TZID=UTC:20190209T130000
DTSTAMP:20260425T155821
CREATED:20190206T195412Z
LAST-MODIFIED:20190206T195412Z
UID:6016-1549702800-1549717200@shaspets.com
SUMMARY:Courtesy Chip Check
DESCRIPTION:
URL:https://shaspets.com/calendar/courtesy-chip-check/
LOCATION:Downtown Las Cruces Farmers & Crafts Market\, Downtown (South End)\, Las Cruces\, NM\, 88001
ORGANIZER;CN="Safe Haven Animal Sanctuary":MAILTO:info@shaspets.com
END:VEVENT
BEGIN:VEVENT
DTSTART;TZID=UTC:20190207T160000
DTEND;TZID=UTC:20190207T190000
DTSTAMP:20260425T155821
CREATED:20190121T050418Z
LAST-MODIFIED:20190121T050418Z
UID:5972-1549555200-1549566000@shaspets.com
SUMMARY:Rudy's to the Rescue Adoption Promotion
DESCRIPTION:
URL:https://shaspets.com/calendar/rudys-to-the-rescue-adoption-promotion-7/
LOCATION:Rudy’s Bar-B-Q\, 1020 N. Telshor Blvd.\, Las Cruces\, NM\, 88011\, United States
ORGANIZER;CN="Safe Haven Animal Sanctuary":MAILTO:info@shaspets.com
END:VEVENT
BEGIN:VEVENT
DTSTART;TZID=UTC:20190202T100000
DTEND;TZID=UTC:20190202T140000
DTSTAMP:20260425T155821
CREATED:20190121T043917Z
LAST-MODIFIED:20190121T043917Z
UID:5968-1549101600-1549116000@shaspets.com
SUMMARY:Valentine's Photo Booth
DESCRIPTION:
URL:https://shaspets.com/calendar/valentines-photo-booth-4/
LOCATION:Safe Haven Thrift Store\, 840 El Paseo Rd.\, Las Cruces\, NM\, 88001\, United States
ORGANIZER;CN="Safe Haven Animal Sanctuary":MAILTO:info@shaspets.com
END:VEVENT
BEGIN:VEVENT
DTSTART;TZID=UTC:20190126T103000
DTEND;TZID=UTC:20190126T143000
DTSTAMP:20260425T155821
CREATED:20190121T042235Z
LAST-MODIFIED:20190121T042235Z
UID:5964-1548498600-1548513000@shaspets.com
SUMMARY:PetSmart Adoptions
DESCRIPTION:
URL:https://shaspets.com/calendar/petsmart-adoptions-12/
LOCATION:PetSmart\, 2200 E Lohman\, Las Cruces\, 88001\, United States
ORGANIZER;CN="Safe Haven Animal Sanctuary":MAILTO:info@shaspets.com
END:VEVENT
BEGIN:VEVENT
DTSTART;TZID=UTC:20181222T090000
DTEND;TZID=UTC:20181222T130000
DTSTAMP:20260425T155821
CREATED:20181218T054717Z
LAST-MODIFIED:20181218T054717Z
UID:5944-1545469200-1545483600@shaspets.com
SUMMARY:Courtesy Chip Check at Farmers Market
DESCRIPTION:
URL:https://shaspets.com/calendar/courtesy-chip-check-at-farmers-market/
LOCATION:Downtown Mall\, Main Street (Downtown)\, Las Cruces\, NM\, 88001\, United States
ORGANIZER;CN="Safe Haven Animal Sanctuary":MAILTO:info@shaspets.com
END:VEVENT
END:VCALENDAR