BEGIN:VCALENDAR
VERSION:2.0
PRODID:-//Safe Haven Animal Sanctuary - ECPv6.15.20//NONSGML v1.0//EN
CALSCALE:GREGORIAN
METHOD:PUBLISH
X-WR-CALNAME:Safe Haven Animal Sanctuary
X-ORIGINAL-URL:https://shaspets.com
X-WR-CALDESC:Events for Safe Haven Animal Sanctuary
REFRESH-INTERVAL;VALUE=DURATION:PT1H
X-Robots-Tag:noindex
X-PUBLISHED-TTL:PT1H
BEGIN:VTIMEZONE
TZID:UTC
BEGIN:STANDARD
TZOFFSETFROM:+0000
TZOFFSETTO:+0000
TZNAME:UTC
DTSTART:20160101T000000
END:STANDARD
END:VTIMEZONE
BEGIN:VEVENT
DTSTART;TZID=UTC:20180623T103000
DTEND;TZID=UTC:20180623T143000
DTSTAMP:20260425T113939
CREATED:20180619T043828Z
LAST-MODIFIED:20180619T043828Z
UID:5658-1529749800-1529764200@shaspets.com
SUMMARY:PetSmart Adoptions
DESCRIPTION:
URL:https://shaspets.com/calendar/petsmart-adoptions-6/
LOCATION:PetSmart\, 2200 E Lohman\, Las Cruces\, 88001\, United States
ORGANIZER;CN="Safe Haven Animal Sanctuary":MAILTO:info@shaspets.com
END:VEVENT
BEGIN:VEVENT
DTSTART;TZID=UTC:20180609T100000
DTEND;TZID=UTC:20180609T140000
DTSTAMP:20260425T113939
CREATED:20180604T181817Z
LAST-MODIFIED:20180604T181817Z
UID:5560-1528538400-1528552800@shaspets.com
SUMMARY:Walmart Donation Drive
DESCRIPTION:
URL:https://shaspets.com/calendar/walmart-donation-drive-3/
LOCATION:Walmart Neighborhood Market\, 150 Sonoma Ranch Blvd\, Las Cruces\, NM\, 88011\, United States
ORGANIZER;CN="Safe Haven Animal Sanctuary":MAILTO:info@shaspets.com
END:VEVENT
BEGIN:VEVENT
DTSTART;TZID=UTC:20180607T160000
DTEND;TZID=UTC:20180607T190000
DTSTAMP:20260425T113939
CREATED:20180511T223358Z
LAST-MODIFIED:20180511T223806Z
UID:5458-1528387200-1528398000@shaspets.com
SUMMARY:Rudy's to the Rescue Adoption Promotion
DESCRIPTION:
URL:https://shaspets.com/calendar/rudys-to-the-rescue-adoption-promotion-2/
LOCATION:Rudy’s Bar-B-Q\, 1020 N. Telshor Blvd.\, Las Cruces\, NM\, 88011\, United States
ORGANIZER;CN="Safe Haven Animal Sanctuary":MAILTO:info@shaspets.com
END:VEVENT
BEGIN:VEVENT
DTSTART;TZID=UTC:20180526T103000
DTEND;TZID=UTC:20180526T143000
DTSTAMP:20260425T113939
CREATED:20180511T220755Z
LAST-MODIFIED:20180511T221238Z
UID:5449-1527330600-1527345000@shaspets.com
SUMMARY:PetSmart Adoptions
DESCRIPTION:
URL:https://shaspets.com/calendar/petsmart-adoptions-5/
LOCATION:PetSmart\, 2200 E Lohman\, Las Cruces\, 88001\, United States
ORGANIZER;CN="Safe Haven Animal Sanctuary":MAILTO:info@shaspets.com
END:VEVENT
BEGIN:VEVENT
DTSTART;TZID=UTC:20180503T173000
DTEND;TZID=UTC:20180503T203000
DTSTAMP:20260425T113939
CREATED:20180403T222331Z
LAST-MODIFIED:20180404T165532Z
UID:4847-1525368600-1525379400@shaspets.com
SUMMARY:8th Annual "Wineing" For The Animals Fundraiser
DESCRIPTION:
URL:https://shaspets.com/calendar/8th-annual-wineing-for-the-animals/
LOCATION:Grapevine Plaza\, 3900 W Picacho\, Las Cruces\, NM\, 88007\, United States
ORGANIZER;CN="Safe Haven Animal Sanctuary":MAILTO:info@shaspets.com
END:VEVENT
BEGIN:VEVENT
DTSTART;TZID=UTC:20180428T103000
DTEND;TZID=UTC:20180428T143000
DTSTAMP:20260425T113940
CREATED:20180420T213937Z
LAST-MODIFIED:20180420T213937Z
UID:4871-1524911400-1524925800@shaspets.com
SUMMARY:PetSmart Adoptions
DESCRIPTION:
URL:https://shaspets.com/calendar/petsmart-adoptions-4/
LOCATION:PetSmart\, 2200 E Lohman\, Las Cruces\, 88001\, United States
CATEGORIES:Adoption Event
ORGANIZER;CN="Safe Haven Animal Sanctuary":MAILTO:info@shaspets.com
END:VEVENT
BEGIN:VEVENT
DTSTART;TZID=UTC:20180414T103000
DTEND;TZID=UTC:20180414T143000
DTSTAMP:20260425T113940
CREATED:20180326T182241Z
LAST-MODIFIED:20180326T182241Z
UID:4840-1523701800-1523716200@shaspets.com
SUMMARY:Walmart Donation Drive
DESCRIPTION:
URL:https://shaspets.com/calendar/walmart-donation-drive-2/
LOCATION:Walmart Neighborhood Market\, 150 Sonoma Ranch Blvd\, Las Cruces\, NM\, 88011\, United States
ORGANIZER;CN="Safe Haven Animal Sanctuary":MAILTO:info@shaspets.com
END:VEVENT
BEGIN:VEVENT
DTSTART;TZID=UTC:20180405T160000
DTEND;TZID=UTC:20180405T190000
DTSTAMP:20260425T113940
CREATED:20180319T160456Z
LAST-MODIFIED:20180319T160456Z
UID:4823-1522944000-1522954800@shaspets.com
SUMMARY:Rudy's to the Rescue Adoption Promotion
DESCRIPTION:
URL:https://shaspets.com/calendar/rudys-to-the-rescue-adoption-promotion/
LOCATION:Rudy’s Bar-B-Q\, 1020 N. Telshor Blvd.\, Las Cruces\, NM\, 88011\, United States
ORGANIZER;CN="Safe Haven Animal Sanctuary":MAILTO:info@shaspets.com
END:VEVENT
BEGIN:VEVENT
DTSTART;TZID=UTC:20180330T110000
DTEND;TZID=UTC:20180330T150000
DTSTAMP:20260425T113940
CREATED:20180319T160129Z
LAST-MODIFIED:20180319T160129Z
UID:4819-1522407600-1522422000@shaspets.com
SUMMARY:SHAS Adoptions at Natural Grocers
DESCRIPTION:
URL:https://shaspets.com/calendar/shas-adoptions-at-natural-grocers/
LOCATION:Natural Grocers\, 3970 E. Lohman Ave.\, Las Cruces\, 88011\, United States
ORGANIZER;CN="Safe Haven Animal Sanctuary":MAILTO:info@shaspets.com
END:VEVENT
BEGIN:VEVENT
DTSTART;TZID=UTC:20180324T103000
DTEND;TZID=UTC:20180324T143000
DTSTAMP:20260425T113940
CREATED:20180218T224239Z
LAST-MODIFIED:20180218T224239Z
UID:4361-1521887400-1521901800@shaspets.com
SUMMARY:PetSmart Adoptions
DESCRIPTION:
URL:https://shaspets.com/calendar/petsmart-adoptions-3/
LOCATION:PetSmart\, 2200 E Lohman\, Las Cruces\, 88001\, United States
ORGANIZER;CN="Safe Haven Animal Sanctuary":MAILTO:info@shaspets.com
END:VEVENT
BEGIN:VEVENT
DTSTART;TZID=UTC:20180303T090000
DTEND;TZID=UTC:20180303T150000
DTSTAMP:20260425T113940
CREATED:20180219T223521Z
LAST-MODIFIED:20180219T223521Z
UID:4412-1520067600-1520089200@shaspets.com
SUMMARY:SHAS at Veterans Car Show
DESCRIPTION:
URL:https://shaspets.com/calendar/shas-veterans-car-show-2/
LOCATION:Borman Autoplex\, 470 W Boutz Rd\, Las Cruces\, NM\, 88005\, United States
ORGANIZER;CN="Safe Haven Animal Sanctuary":MAILTO:info@shaspets.com
END:VEVENT
BEGIN:VEVENT
DTSTART;TZID=UTC:20180301T160000
DTEND;TZID=UTC:20180301T190000
DTSTAMP:20260425T113940
CREATED:20180218T214737Z
LAST-MODIFIED:20180218T214737Z
UID:4357-1519920000-1519930800@shaspets.com
SUMMARY:Rudy's to the Rescue Adoption Promotion
DESCRIPTION:
URL:https://shaspets.com/calendar/rudys-rescue-adoption-promotion-3/
LOCATION:Rudy’s Bar-B-Q\, 1020 N. Telshor Blvd.\, Las Cruces\, NM\, 88011\, United States
ORGANIZER;CN="Safe Haven Animal Sanctuary":MAILTO:info@shaspets.com
END:VEVENT
BEGIN:VEVENT
DTSTART;TZID=UTC:20180225T100000
DTEND;TZID=UTC:20180225T150000
DTSTAMP:20260425T113940
CREATED:20180222T224137Z
LAST-MODIFIED:20180222T224137Z
UID:4442-1519552800-1519570800@shaspets.com
SUMMARY:SHAS at LCHBA Home & Garden Show
DESCRIPTION:
URL:https://shaspets.com/calendar/shas-lchba-home-garden-show/
LOCATION:NM Farm & Ranch Heritage Museum\, 4100 Dripping Springs Rd\, Las Cruces\, NM\, 88011\, United States
END:VEVENT
BEGIN:VEVENT
DTSTART;TZID=UTC:20180224T103000
DTEND;TZID=UTC:20180224T143000
DTSTAMP:20260425T113940
CREATED:20180215T002709Z
LAST-MODIFIED:20180215T002709Z
UID:4348-1519468200-1519482600@shaspets.com
SUMMARY:PetSmart Adoptions
DESCRIPTION:
URL:https://shaspets.com/calendar/petsmart-adoptions-2/
LOCATION:PetSmart\, 2200 E Lohman\, Las Cruces\, 88001\, United States
ORGANIZER;CN="Safe Haven Animal Sanctuary":MAILTO:info@shaspets.com
END:VEVENT
BEGIN:VEVENT
DTSTART;TZID=UTC:20180211T110000
DTEND;TZID=UTC:20180211T170000
DTSTAMP:20260425T113940
CREATED:20180207T183502Z
LAST-MODIFIED:20180207T183502Z
UID:4265-1518346800-1518368400@shaspets.com
SUMMARY:SHAS Barnes & Noble Bookfair
DESCRIPTION:
URL:https://shaspets.com/calendar/shas-barnes-noble-bookfair-6/
LOCATION:Barnes & Noble\, Mesilla Valley Mall\, Las Cruces\, NM\, 88011
ORGANIZER;CN="Safe Haven Animal Sanctuary":MAILTO:info@shaspets.com
END:VEVENT
BEGIN:VEVENT
DTSTART;TZID=UTC:20180210T110000
DTEND;TZID=UTC:20180210T170000
DTSTAMP:20260425T113940
CREATED:20180207T183248Z
LAST-MODIFIED:20180207T183746Z
UID:4261-1518260400-1518282000@shaspets.com
SUMMARY:SHAS Barnes & Noble Bookfair
DESCRIPTION:
URL:https://shaspets.com/calendar/shas-barnes-noble-bookfair-5/
LOCATION:Barnes & Noble\, Mesilla Valley Mall\, Las Cruces\, NM\, 88011
ORGANIZER;CN="Safe Haven Animal Sanctuary":MAILTO:info@shaspets.com
END:VEVENT
BEGIN:VEVENT
DTSTART;TZID=UTC:20180210T100000
DTEND;TZID=UTC:20180210T140000
DTSTAMP:20260425T113940
CREATED:20180124T042808Z
LAST-MODIFIED:20180124T042808Z
UID:3871-1518256800-1518271200@shaspets.com
SUMMARY:Valentine's Photo Booth
DESCRIPTION:
URL:https://shaspets.com/calendar/valentines-photo-booth-3/
LOCATION:Safe Haven Thrift Store\, 840 El Paseo Rd.\, Las Cruces\, NM\, 88001\, United States
ORGANIZER;CN="Safe Haven Animal Sanctuary":MAILTO:info@shaspets.com
END:VEVENT
BEGIN:VEVENT
DTSTART;TZID=UTC:20180201T160000
DTEND;TZID=UTC:20180201T190000
DTSTAMP:20260425T113940
CREATED:20180124T024311Z
LAST-MODIFIED:20180124T024311Z
UID:3862-1517500800-1517511600@shaspets.com
SUMMARY:Rudy's to the Rescue Adoption Promotion
DESCRIPTION:
URL:https://shaspets.com/calendar/rudys-rescue-adoption-promotion-2/
LOCATION:Rudy’s Bar-B-Q\, 1020 N. Telshor Blvd.\, Las Cruces\, NM\, 88011\, United States
ORGANIZER;CN="Safe Haven Animal Sanctuary":MAILTO:info@shaspets.com
END:VEVENT
BEGIN:VEVENT
DTSTART;TZID=UTC:20180127T103000
DTEND;TZID=UTC:20180127T143000
DTSTAMP:20260425T113940
CREATED:20180112T164221Z
LAST-MODIFIED:20180112T164221Z
UID:3700-1517049000-1517063400@shaspets.com
SUMMARY:PetSmart Adoptions
DESCRIPTION:
URL:https://shaspets.com/calendar/petsmart-adoptions/
LOCATION:PetSmart\, 2200 E Lohman\, Las Cruces\, 88001\, United States
ORGANIZER;CN="Safe Haven Animal Sanctuary":MAILTO:info@shaspets.com
END:VEVENT
BEGIN:VEVENT
DTSTART;TZID=UTC:20180121T140000
DTEND;TZID=UTC:20180121T160000
DTSTAMP:20260425T113940
CREATED:20180109T215507Z
LAST-MODIFIED:20180109T215640Z
UID:3693-1516543200-1516550400@shaspets.com
SUMMARY:SHAS Annual Meeting
DESCRIPTION:
URL:https://shaspets.com/calendar/shas-annual-meeting/
LOCATION:Branigan Library Roadrunner Room\, 200 E. Picacho Ave.\, Las Cruces\, NM\, 88001\, United States
ORGANIZER;CN="Safe Haven Animal Sanctuary":MAILTO:info@shaspets.com
END:VEVENT
BEGIN:VEVENT
DTSTART;TZID=UTC:20180104T160000
DTEND;TZID=UTC:20180104T190000
DTSTAMP:20260425T113940
CREATED:20171227T231740Z
LAST-MODIFIED:20171227T231740Z
UID:3505-1515081600-1515092400@shaspets.com
SUMMARY:Rudy's to the Rescue Adoption Promotion
DESCRIPTION:
URL:https://shaspets.com/calendar/rudys-rescue-adoption-promotion/
LOCATION:Rudy’s Bar-B-Q\, 1020 N. Telshor Blvd.\, Las Cruces\, NM\, 88011\, United States
ORGANIZER;CN="Safe Haven Animal Sanctuary":MAILTO:info@shaspets.com
END:VEVENT
BEGIN:VEVENT
DTSTART;TZID=UTC:20171216T100000
DTEND;TZID=UTC:20171216T140000
DTSTAMP:20260425T113940
CREATED:20171127T165531Z
LAST-MODIFIED:20171127T165531Z
UID:3167-1513418400-1513432800@shaspets.com
SUMMARY:Pet & Family Photos with Santa
DESCRIPTION:
URL:https://shaspets.com/calendar/pet-family-photos-santa/
LOCATION:Safe Haven Thrift Store\, 840 El Paseo Rd.\, Las Cruces\, NM\, 88001\, United States
ORGANIZER;CN="Safe Haven Animal Sanctuary":MAILTO:info@shaspets.com
END:VEVENT
BEGIN:VEVENT
DTSTART;TZID=UTC:20171207T160000
DTEND;TZID=UTC:20171207T190000
DTSTAMP:20260425T113940
CREATED:20171212T032832Z
LAST-MODIFIED:20171212T032832Z
UID:3329-1512662400-1512673200@shaspets.com
SUMMARY:Rudy's to the Rescue
DESCRIPTION:
URL:https://shaspets.com/calendar/rudys-to-the-rescue-2/
LOCATION:Rudy’s Bar-B-Q\, 1020 N. Telshor Blvd.\, Las Cruces\, NM\, 88011\, United States
ORGANIZER;CN="Safe Haven Animal Sanctuary":MAILTO:info@shaspets.com
END:VEVENT
BEGIN:VEVENT
DTSTART;TZID=UTC:20171203T103000
DTEND;TZID=UTC:20171203T143000
DTSTAMP:20260425T113940
CREATED:20171122T194124Z
LAST-MODIFIED:20171129T175859Z
UID:3086-1512297000-1512311400@shaspets.com
SUMMARY:Walmart Donation Drive
DESCRIPTION:
URL:https://shaspets.com/calendar/walmart-donation-drive/
LOCATION:Walmart Neighborhood Market\, 150 Sonoma Ranch Blvd\, Las Cruces\, NM\, 88011\, United States
ORGANIZER;CN="Safe Haven Animal Sanctuary":MAILTO:info@shaspets.com
END:VEVENT
BEGIN:VEVENT
DTSTART;TZID=UTC:20171126T120000
DTEND;TZID=UTC:20171126T160000
DTSTAMP:20260425T113940
CREATED:20171020T212658Z
LAST-MODIFIED:20171110T163454Z
UID:2735-1511697600-1511712000@shaspets.com
SUMMARY:SHAS Adoptions at Nissan of LC
DESCRIPTION:
URL:https://shaspets.com/calendar/shas-adoptions-nissan-lc-2/
LOCATION:Nissan of Las Cruces\, 1801 S Main\, Las Cruces\, 88005\, United States
ORGANIZER;CN="Safe Haven Animal Sanctuary":MAILTO:info@shaspets.com
END:VEVENT
BEGIN:VEVENT
DTSTART;TZID=UTC:20171125T103000
DTEND;TZID=UTC:20171125T143000
DTSTAMP:20260425T113940
CREATED:20171020T213137Z
LAST-MODIFIED:20171113T211402Z
UID:2739-1511605800-1511620200@shaspets.com
SUMMARY:SHAS Adoptions at PetSmart
DESCRIPTION:
URL:https://shaspets.com/calendar/shas-adoptions-petsmart-12/
LOCATION:PetSmart\, 2200 E Lohman\, Las Cruces\, 88001\, United States
ORGANIZER;CN="Safe Haven Animal Sanctuary":MAILTO:info@shaspets.com
END:VEVENT
BEGIN:VEVENT
DTSTART;TZID=UTC:20171112T110000
DTEND;TZID=UTC:20171112T170000
DTSTAMP:20260425T113940
CREATED:20171019T205408Z
LAST-MODIFIED:20171019T205408Z
UID:2719-1510484400-1510506000@shaspets.com
SUMMARY:SHAS Barnes & Noble Bookfair
DESCRIPTION:
URL:https://shaspets.com/calendar/shas-barnes-noble-bookfair-4/
LOCATION:Barnes & Noble\, Mesilla Valley Mall\, Las Cruces\, NM\, 88011
ORGANIZER;CN="Safe Haven Animal Sanctuary":MAILTO:info@shaspets.com
END:VEVENT
BEGIN:VEVENT
DTSTART;TZID=UTC:20171111T120000
DTEND;TZID=UTC:20171111T160000
DTSTAMP:20260425T113940
CREATED:20171015T232803Z
LAST-MODIFIED:20171015T232803Z
UID:2679-1510401600-1510416000@shaspets.com
SUMMARY:SHAS Adoptions at Natural Grocers
DESCRIPTION:
URL:https://shaspets.com/calendar/shas-adoptions-natural-grocers-2/
LOCATION:Natural Grocers\, 3970 E. Lohman Ave.\, Las Cruces\, 88011\, United States
ORGANIZER;CN="Safe Haven Animal Sanctuary":MAILTO:info@shaspets.com
END:VEVENT
BEGIN:VEVENT
DTSTART;TZID=UTC:20171111T110000
DTEND;TZID=UTC:20171111T170000
DTSTAMP:20260425T113940
CREATED:20171019T205242Z
LAST-MODIFIED:20171019T205242Z
UID:2715-1510398000-1510419600@shaspets.com
SUMMARY:SHAS Barnes & Noble Bookfair
DESCRIPTION:
URL:https://shaspets.com/calendar/shas-barnes-noble-bookfair-3/
LOCATION:Barnes & Noble\, Mesilla Valley Mall\, Las Cruces\, NM\, 88011
ORGANIZER;CN="Safe Haven Animal Sanctuary":MAILTO:info@shaspets.com
END:VEVENT
BEGIN:VEVENT
DTSTART;TZID=UTC:20171102T163000
DTEND;TZID=UTC:20171102T190000
DTSTAMP:20260425T113940
CREATED:20171020T204358Z
LAST-MODIFIED:20171020T204358Z
UID:2729-1509640200-1509649200@shaspets.com
SUMMARY:Rudy's to the Rescue
DESCRIPTION:
URL:https://shaspets.com/calendar/rudys-to-the-rescue/
LOCATION:Rudy’s Bar-B-Q\, 1020 N. Telshor Blvd.\, Las Cruces\, NM\, 88011\, United States
ORGANIZER;CN="Safe Haven Animal Sanctuary":MAILTO:info@shaspets.com
END:VEVENT
END:VCALENDAR