BEGIN:VCALENDAR
VERSION:2.0
PRODID:-//Safe Haven Animal Sanctuary - ECPv6.15.20//NONSGML v1.0//EN
CALSCALE:GREGORIAN
METHOD:PUBLISH
X-WR-CALNAME:Safe Haven Animal Sanctuary
X-ORIGINAL-URL:https://shaspets.com
X-WR-CALDESC:Events for Safe Haven Animal Sanctuary
REFRESH-INTERVAL;VALUE=DURATION:PT1H
X-Robots-Tag:noindex
X-PUBLISHED-TTL:PT1H
BEGIN:VTIMEZONE
TZID:UTC
BEGIN:STANDARD
TZOFFSETFROM:+0000
TZOFFSETTO:+0000
TZNAME:UTC
DTSTART:20150101T000000
END:STANDARD
END:VTIMEZONE
BEGIN:VEVENT
DTSTART;TZID=UTC:20170817T160000
DTEND;TZID=UTC:20170817T180000
DTSTAMP:20260425T162846
CREATED:20170725T231827Z
LAST-MODIFIED:20170725T231827Z
UID:1800-1502985600-1502992800@shaspets.com
SUMMARY:SHAS at Natural Grocers Ice Cream Social
DESCRIPTION:
URL:https://shaspets.com/calendar/shas-natural-grocers-ice-cream-social/
LOCATION:Natural Grocers\, 3970 E. Lohman Ave.\, Las Cruces\, 88011\, United States
ORGANIZER;CN="Safe Haven Animal Sanctuary":MAILTO:info@shaspets.com
END:VEVENT
BEGIN:VEVENT
DTSTART;TZID=UTC:20170817T120000
DTEND;TZID=UTC:20170817T160000
DTSTAMP:20260425T162846
CREATED:20170725T231111Z
LAST-MODIFIED:20170725T231946Z
UID:1793-1502971200-1502985600@shaspets.com
SUMMARY:SHAS Adoptions at Natural Grocers
DESCRIPTION:
URL:https://shaspets.com/calendar/shas-adoptions-natural-grocers/
LOCATION:Natural Grocers\, 3970 E. Lohman Ave.\, Las Cruces\, 88011\, United States
ORGANIZER;CN="Safe Haven Animal Sanctuary":MAILTO:info@shaspets.com
END:VEVENT
BEGIN:VEVENT
DTSTART;TZID=UTC:20170722T103000
DTEND;TZID=UTC:20170722T143000
DTSTAMP:20260425T162846
CREATED:20170703T053757Z
LAST-MODIFIED:20170703T053757Z
UID:1783-1500719400-1500733800@shaspets.com
SUMMARY:SHAS Adoptions at PetSmart
DESCRIPTION:
URL:https://shaspets.com/calendar/shas-adoptions-petsmart-9/
LOCATION:PetSmart\, 2200 E Lohman\, Las Cruces\, 88001\, United States
END:VEVENT
BEGIN:VEVENT
DTSTART;TZID=UTC:20170715T093000
DTEND;TZID=UTC:20170715T133000
DTSTAMP:20260425T162846
CREATED:20170703T050715Z
LAST-MODIFIED:20170703T050715Z
UID:1779-1500111000-1500125400@shaspets.com
SUMMARY:SHAS Adoptions at Tractor Supply
DESCRIPTION:
URL:https://shaspets.com/calendar/shas-adoptions-tractor-supply-3/
LOCATION:Tractor Supply Co.\, 1440 W. Picacho Ave.\, Las Cruces\, NM\, 88005\, United States
END:VEVENT
BEGIN:VEVENT
DTSTART;TZID=UTC:20170701T100000
DTEND;TZID=UTC:20170701T140000
DTSTAMP:20260425T162846
CREATED:20170620T213139Z
LAST-MODIFIED:20170620T213139Z
UID:1761-1498903200-1498917600@shaspets.com
SUMMARY:Patriotic Photo Booth
DESCRIPTION:
URL:https://shaspets.com/calendar/patriotic-photo-booth-2/
LOCATION:Safe Haven Thrift Store\, 840 El Paseo Rd.\, Las Cruces\, NM\, 88001\, United States
CATEGORIES:Fundraiser,Pet Photos
END:VEVENT
BEGIN:VEVENT
DTSTART;TZID=UTC:20170624T103000
DTEND;TZID=UTC:20170624T143000
DTSTAMP:20260425T162846
CREATED:20170601T154528Z
LAST-MODIFIED:20170601T154528Z
UID:1695-1498300200-1498314600@shaspets.com
SUMMARY:Walmart Donation Event
DESCRIPTION:
URL:https://shaspets.com/calendar/walmart-donation-event-6/
LOCATION:Walmart – Valley\, 1550 S. Valley\, Las Cruces\, NM\, 88005\, United States
END:VEVENT
BEGIN:VEVENT
DTSTART;TZID=UTC:20170624T103000
DTEND;TZID=UTC:20170624T143000
DTSTAMP:20260425T162846
CREATED:20170426T192614Z
LAST-MODIFIED:20170426T192614Z
UID:1672-1498300200-1498314600@shaspets.com
SUMMARY:SHAS Adoptions at PetSmart
DESCRIPTION:
URL:https://shaspets.com/calendar/shas-adoptions-petsmart-8/
LOCATION:PetSmart\, 2200 E Lohman\, Las Cruces\, 88001\, United States
ORGANIZER;CN="Safe Haven Animal Sanctuary":MAILTO:info@shaspets.com
END:VEVENT
BEGIN:VEVENT
DTSTART;TZID=UTC:20170617T100000
DTEND;TZID=UTC:20170617T140000
DTSTAMP:20260425T162846
CREATED:20170426T165206Z
LAST-MODIFIED:20170426T165206Z
UID:1668-1497693600-1497708000@shaspets.com
SUMMARY:SHAS Adoptions at Tractor Supply
DESCRIPTION:
URL:https://shaspets.com/calendar/shas-adoptions-tractor-supply-2/
LOCATION:Tractor Supply Co.\, 1440 W. Picacho Ave.\, Las Cruces\, NM\, 88005\, United States
ORGANIZER;CN="Safe Haven Animal Sanctuary":MAILTO:info@shaspets.com
END:VEVENT
BEGIN:VEVENT
DTSTART;TZID=UTC:20170527T103000
DTEND;TZID=UTC:20170527T143000
DTSTAMP:20260425T162846
CREATED:20170426T164859Z
LAST-MODIFIED:20170426T164859Z
UID:1664-1495881000-1495895400@shaspets.com
SUMMARY:SHAS Adoptions at PetSmart
DESCRIPTION:
URL:https://shaspets.com/calendar/shas-adoptions-petsmart-7/
LOCATION:PetSmart\, 2200 E Lohman\, Las Cruces\, 88001\, United States
ORGANIZER;CN="Safe Haven Animal Sanctuary":MAILTO:info@shaspets.com
END:VEVENT
BEGIN:VEVENT
DTSTART;TZID=UTC:20170520T100000
DTEND;TZID=UTC:20170520T140000
DTSTAMP:20260425T162846
CREATED:20170426T164456Z
LAST-MODIFIED:20170510T153354Z
UID:1660-1495274400-1495288800@shaspets.com
SUMMARY:SHAS Dog Wash at Tractor Supply
DESCRIPTION:
URL:https://shaspets.com/calendar/shas-dog-wash-tractor-supply/
LOCATION:Tractor Supply Co.\, 1440 W. Picacho Ave.\, Las Cruces\, NM\, 88005\, United States
ORGANIZER;CN="Safe Haven Animal Sanctuary":MAILTO:info@shaspets.com
END:VEVENT
BEGIN:VEVENT
DTSTART;TZID=UTC:20170518T173000
DTEND;TZID=UTC:20170518T203000
DTSTAMP:20260425T162846
CREATED:20170323T221526Z
LAST-MODIFIED:20170410T165748Z
UID:1612-1495128600-1495139400@shaspets.com
SUMMARY:7th Annual Wineing for the Animals
DESCRIPTION:
URL:https://shaspets.com/calendar/7th-annual-wineing-animals/
LOCATION:Grapevine Plaza\, 3900 W Picacho\, Las Cruces\, NM\, 88007\, United States
ORGANIZER;CN="Safe Haven Animal Sanctuary":MAILTO:info@shaspets.com
END:VEVENT
BEGIN:VEVENT
DTSTART;TZID=UTC:20170506T080000
DTEND;TZID=UTC:20170506T120000
DTSTAMP:20260425T162846
CREATED:20170426T163701Z
LAST-MODIFIED:20170426T163701Z
UID:1648-1494057600-1494072000@shaspets.com
SUMMARY:Doggy Fun Run 3K Walk/Run
DESCRIPTION:
URL:https://shaspets.com/calendar/doggy-fun-run-3k-walkrun/
LOCATION:Pat & Lou Sisbarro Park at NMSU\, East of NMSU Football Field\, Las Cruces\, NM\, 88003\, United States
ORGANIZER;CN="Delta Sigma Pi - Epsilon Upsilon Chapter NMSU":MAILTO:epsiupsi@gmail.com
END:VEVENT
BEGIN:VEVENT
DTSTART;TZID=UTC:20170422T100000
DTEND;TZID=UTC:20170422T140000
DTSTAMP:20260425T162846
CREATED:20170308T172812Z
LAST-MODIFIED:20170308T172812Z
UID:1579-1492855200-1492869600@shaspets.com
SUMMARY:SHAS Adoptions at PetSmart
DESCRIPTION:
URL:https://shaspets.com/calendar/shas-adoptions-petsmart-6/
LOCATION:PetSmart\, 2200 E Lohman\, Las Cruces\, 88001\, United States
ORGANIZER;CN="Safe Haven Animal Sanctuary":MAILTO:info@shaspets.com
END:VEVENT
BEGIN:VEVENT
DTSTART;TZID=UTC:20170422T090000
DTEND;TZID=UTC:20170422T130000
DTSTAMP:20260425T162846
CREATED:20170410T221013Z
LAST-MODIFIED:20170410T221013Z
UID:1636-1492851600-1492866000@shaspets.com
SUMMARY:SHAS Donation Drive at Tractor Supply
DESCRIPTION:
URL:https://shaspets.com/calendar/shas-donation-drive-tractor-supply/
LOCATION:Tractor Supply Co.\, 1440 W. Picacho Ave.\, Las Cruces\, NM\, 88005\, United States
END:VEVENT
BEGIN:VEVENT
DTSTART;TZID=UTC:20170415T100000
DTEND;TZID=UTC:20170415T140000
DTSTAMP:20260425T162846
CREATED:20170308T192540Z
LAST-MODIFIED:20170308T192540Z
UID:1584-1492250400-1492264800@shaspets.com
SUMMARY:Easter Photo Booth
DESCRIPTION:
URL:https://shaspets.com/calendar/easter-photo-booth/
LOCATION:Safe Haven Thrift Store\, 840 El Paseo Rd.\, Las Cruces\, NM\, 88001\, United States
ORGANIZER;CN="Safe Haven Animal Sanctuary":MAILTO:info@shaspets.com
END:VEVENT
BEGIN:VEVENT
DTSTART;TZID=UTC:20170325T103000
DTEND;TZID=UTC:20170325T143000
DTSTAMP:20260425T162846
CREATED:20170301T190246Z
LAST-MODIFIED:20170301T190246Z
UID:1533-1490437800-1490452200@shaspets.com
SUMMARY:SHAS Adoptions at PetSmart
DESCRIPTION:
URL:https://shaspets.com/calendar/shas-adoptions-petsmart-5/
ORGANIZER;CN="Safe Haven Animal Sanctuary":MAILTO:info@shaspets.com
END:VEVENT
BEGIN:VEVENT
DTSTART;TZID=UTC:20170325T100000
DTEND;TZID=UTC:20170325T140000
DTSTAMP:20260425T162846
CREATED:20170317T205949Z
LAST-MODIFIED:20170317T205949Z
UID:1594-1490436000-1490450400@shaspets.com
SUMMARY:SHAS Adoptions at Tractor Supply
DESCRIPTION:
URL:https://shaspets.com/calendar/shas-adoptions-tractor-supply/
LOCATION:Tractor Supply Co.\, 1440 W. Picacho Ave.\, Las Cruces\, NM\, 88005\, United States
ORGANIZER;CN="Safe Haven Animal Sanctuary":MAILTO:info@shaspets.com
END:VEVENT
BEGIN:VEVENT
DTSTART;TZID=UTC:20170315T140000
DTEND;TZID=UTC:20170315T180000
DTSTAMP:20260425T162846
CREATED:20170306T030543Z
LAST-MODIFIED:20170306T030543Z
UID:1570-1489586400-1489600800@shaspets.com
SUMMARY:$10 Microchip Clinic at Tractor Supply
DESCRIPTION:
URL:https://shaspets.com/calendar/10-microchip-clinic-tractor-supply/
LOCATION:Tractor Supply Co.\, 1440 W. Picacho Ave.\, Las Cruces\, NM\, 88005\, United States
ORGANIZER;CN="Safe Haven Animal Sanctuary":MAILTO:info@shaspets.com
END:VEVENT
BEGIN:VEVENT
DTSTART;TZID=UTC:20170312T100000
DTEND;TZID=UTC:20170312T140000
DTSTAMP:20260425T162846
CREATED:20170306T030152Z
LAST-MODIFIED:20170306T210927Z
UID:1565-1489312800-1489327200@shaspets.com
SUMMARY:Dog Wash & Adoption Event at Tractor Supply
DESCRIPTION:
URL:https://shaspets.com/calendar/dog-wash-adoption-event-tractor-supply/
LOCATION:Tractor Supply Co.\, 1440 W. Picacho Ave.\, Las Cruces\, NM\, 88005\, United States
ORGANIZER;CN="Safe Haven Animal Sanctuary":MAILTO:info@shaspets.com
END:VEVENT
BEGIN:VEVENT
DTSTART;TZID=UTC:20170225T103000
DTEND;TZID=UTC:20170225T143000
DTSTAMP:20260425T162846
CREATED:20170207T235827Z
LAST-MODIFIED:20170207T235827Z
UID:1455-1488018600-1488033000@shaspets.com
SUMMARY:SHAS Adoptions at PetSmart
DESCRIPTION:
URL:https://shaspets.com/calendar/shas-adoptions-petsmart-4/
END:VEVENT
BEGIN:VEVENT
DTSTART;TZID=UTC:20170225T090000
DTEND;TZID=UTC:20170225T150000
DTSTAMP:20260425T162846
CREATED:20170208T180837Z
LAST-MODIFIED:20170208T180837Z
UID:1460-1488013200-1488034800@shaspets.com
SUMMARY:SHAS at Veterans Car Show
DESCRIPTION:
URL:https://shaspets.com/calendar/shas-veterans-car-show/
CATEGORIES:Adoption Event
END:VEVENT
BEGIN:VEVENT
DTSTART;TZID=UTC:20170212T110000
DTEND;TZID=UTC:20170212T170000
DTSTAMP:20260425T162846
CREATED:20170130T202308Z
LAST-MODIFIED:20170130T202308Z
UID:1428-1486897200-1486918800@shaspets.com
SUMMARY:SHAS Barnes & Noble Bookfair
DESCRIPTION:
URL:https://shaspets.com/calendar/shas-barnes-noble-bookfair-2/
LOCATION:Barnes & Noble\, Mesilla Valley Mall\, Las Cruces\, NM\, 88011
END:VEVENT
BEGIN:VEVENT
DTSTART;TZID=UTC:20170211T110000
DTEND;TZID=UTC:20170211T170000
DTSTAMP:20260425T162846
CREATED:20170130T201701Z
LAST-MODIFIED:20170130T201701Z
UID:1419-1486810800-1486832400@shaspets.com
SUMMARY:SHAS Barnes & Noble Bookfair
DESCRIPTION:
URL:https://shaspets.com/calendar/shas-barnes-noble-bookfair/
CATEGORIES:Fundraiser
END:VEVENT
BEGIN:VEVENT
DTSTART;TZID=UTC:20170204T100000
DTEND;TZID=UTC:20170204T140000
DTSTAMP:20260425T162846
CREATED:20170122T043441Z
LAST-MODIFIED:20170122T043441Z
UID:1405-1486202400-1486216800@shaspets.com
SUMMARY:Valentine's Photo Booth
DESCRIPTION:
URL:https://shaspets.com/calendar/valentines-photo-booth-2/
LOCATION:Safe Haven Thrift Store\, 840 El Paseo Rd.\, Las Cruces\, NM\, 88001\, United States
ORGANIZER;CN="Safe Haven Animal Sanctuary":MAILTO:info@shaspets.com
END:VEVENT
BEGIN:VEVENT
DTSTART;TZID=UTC:20170129T140000
DTEND;TZID=UTC:20170129T160000
DTSTAMP:20260425T162846
CREATED:20170110T172110Z
LAST-MODIFIED:20170110T172311Z
UID:1334-1485698400-1485705600@shaspets.com
SUMMARY:SHAS Annual Member Meeting
DESCRIPTION:The Safe Haven Animal Sanctuary will hold their Annual Member Meeting on Sunday\, January 29 at 2:00 pm in the Roadrunner Room of the Thomas Branigan Memorial Library. The agenda will include 2016 year-end reports\, guest speaker and 2017 Board of Director elections. The meeting is free and open to the public.
URL:https://shaspets.com/calendar/shas-annual-member-meeting/
LOCATION:Branigan Library Roadrunner Room\, 200 E. Picacho Ave.\, Las Cruces\, NM\, 88001\, United States
ORGANIZER;CN="Safe Haven Animal Sanctuary":MAILTO:info@shaspets.com
END:VEVENT
BEGIN:VEVENT
DTSTART;TZID=UTC:20170128T103000
DTEND;TZID=UTC:20170128T143000
DTSTAMP:20260425T162846
CREATED:20170115T023412Z
LAST-MODIFIED:20170115T023412Z
UID:1357-1485599400-1485613800@shaspets.com
SUMMARY:SHAS Adoptions at PetSmart
DESCRIPTION:
URL:https://shaspets.com/calendar/shas-adoptions-petsmart-3/
ORGANIZER;CN="Safe Haven Animal Sanctuary":MAILTO:info@shaspets.com
END:VEVENT
BEGIN:VEVENT
DTSTART;TZID=UTC:20170114T103000
DTEND;TZID=UTC:20170114T143000
DTSTAMP:20260425T162846
CREATED:20161227T232945Z
LAST-MODIFIED:20161228T234900Z
UID:1310-1484389800-1484404200@shaspets.com
SUMMARY:Walmart Donation Event
DESCRIPTION:
URL:https://shaspets.com/calendar/walmart-donation-event-5/
LOCATION:Walmart Rinconada\, 3331 Rinconada Blvd\, Las Cruces\, NM\, 88011\, United States
ORGANIZER;CN="Safe Haven Animal Sanctuary":MAILTO:info@shaspets.com
END:VEVENT
BEGIN:VEVENT
DTSTART;TZID=UTC:20161217T103000
DTEND;TZID=UTC:20161217T143000
DTSTAMP:20260425T162846
CREATED:20161206T002737Z
LAST-MODIFIED:20161206T002737Z
UID:1297-1481970600-1481985000@shaspets.com
SUMMARY:SHAS Adoptions at PetSmart
DESCRIPTION:
URL:https://shaspets.com/calendar/shas-adoptions-petsmart-2/
ORGANIZER;CN="Safe Haven Animal Sanctuary":MAILTO:info@shaspets.com
END:VEVENT
BEGIN:VEVENT
DTSTART;TZID=UTC:20161217T100000
DTEND;TZID=UTC:20161217T140000
DTSTAMP:20260425T162846
CREATED:20161206T001235Z
LAST-MODIFIED:20161206T001235Z
UID:1292-1481968800-1481983200@shaspets.com
SUMMARY:Pictures with Santa at Tractor Supply
DESCRIPTION:
URL:https://shaspets.com/calendar/pictures-santa-tractor-supply/
LOCATION:Tractor Supply Co.\, 1440 W. Picacho Ave.\, Las Cruces\, NM\, 88005\, United States
ORGANIZER;CN="Safe Haven Animal Sanctuary":MAILTO:info@shaspets.com
END:VEVENT
BEGIN:VEVENT
DTSTART;TZID=UTC:20161210T100000
DTEND;TZID=UTC:20161210T140000
DTSTAMP:20260425T162846
CREATED:20161118T174329Z
LAST-MODIFIED:20161118T174329Z
UID:1278-1481364000-1481378400@shaspets.com
SUMMARY:Pictures With Santa
DESCRIPTION:
URL:https://shaspets.com/calendar/pictures-with-santa/
LOCATION:Safe Haven Thrift Store\, 840 El Paseo Rd.\, Las Cruces\, NM\, 88001\, United States
ORGANIZER;CN="Safe Haven Animal Sanctuary":MAILTO:info@shaspets.com
END:VEVENT
END:VCALENDAR