BEGIN:VCALENDAR
VERSION:2.0
PRODID:-//Safe Haven Animal Sanctuary - ECPv6.15.20//NONSGML v1.0//EN
CALSCALE:GREGORIAN
METHOD:PUBLISH
X-WR-CALNAME:Safe Haven Animal Sanctuary
X-ORIGINAL-URL:https://shaspets.com
X-WR-CALDESC:Events for Safe Haven Animal Sanctuary
REFRESH-INTERVAL;VALUE=DURATION:PT1H
X-Robots-Tag:noindex
X-PUBLISHED-TTL:PT1H
BEGIN:VTIMEZONE
TZID:UTC
BEGIN:STANDARD
TZOFFSETFROM:+0000
TZOFFSETTO:+0000
TZNAME:UTC
DTSTART:20150101T000000
END:STANDARD
END:VTIMEZONE
BEGIN:VEVENT
DTSTART;TZID=UTC:20170128T103000
DTEND;TZID=UTC:20170128T143000
DTSTAMP:20260426T023833
CREATED:20170115T023412Z
LAST-MODIFIED:20170115T023412Z
UID:1357-1485599400-1485613800@shaspets.com
SUMMARY:SHAS Adoptions at PetSmart
DESCRIPTION:
URL:https://shaspets.com/calendar/shas-adoptions-petsmart-3/
LOCATION:NM
ORGANIZER;CN="Safe Haven Animal Sanctuary":MAILTO:info@shaspets.com
END:VEVENT
BEGIN:VEVENT
DTSTART;TZID=UTC:20170114T103000
DTEND;TZID=UTC:20170114T143000
DTSTAMP:20260426T023833
CREATED:20161227T232945Z
LAST-MODIFIED:20161228T234900Z
UID:1310-1484389800-1484404200@shaspets.com
SUMMARY:Walmart Donation Event
DESCRIPTION:
URL:https://shaspets.com/calendar/walmart-donation-event-5/
LOCATION:Walmart Rinconada\, 3331 Rinconada Blvd\, Las Cruces\, NM\, 88011\, United States
ORGANIZER;CN="Safe Haven Animal Sanctuary":MAILTO:info@shaspets.com
END:VEVENT
BEGIN:VEVENT
DTSTART;TZID=UTC:20161217T103000
DTEND;TZID=UTC:20161217T143000
DTSTAMP:20260426T023833
CREATED:20161206T002737Z
LAST-MODIFIED:20161206T002737Z
UID:1297-1481970600-1481985000@shaspets.com
SUMMARY:SHAS Adoptions at PetSmart
DESCRIPTION:
URL:https://shaspets.com/calendar/shas-adoptions-petsmart-2/
LOCATION:NM
ORGANIZER;CN="Safe Haven Animal Sanctuary":MAILTO:info@shaspets.com
END:VEVENT
BEGIN:VEVENT
DTSTART;TZID=UTC:20161217T100000
DTEND;TZID=UTC:20161217T140000
DTSTAMP:20260426T023833
CREATED:20161206T001235Z
LAST-MODIFIED:20161206T001235Z
UID:1292-1481968800-1481983200@shaspets.com
SUMMARY:Pictures with Santa at Tractor Supply
DESCRIPTION:
URL:https://shaspets.com/calendar/pictures-santa-tractor-supply/
LOCATION:Tractor Supply Co.\, 1440 W. Picacho Ave.\, Las Cruces\, NM\, 88005\, United States
ORGANIZER;CN="Safe Haven Animal Sanctuary":MAILTO:info@shaspets.com
END:VEVENT
BEGIN:VEVENT
DTSTART;TZID=UTC:20161210T100000
DTEND;TZID=UTC:20161210T140000
DTSTAMP:20260426T023833
CREATED:20161118T174329Z
LAST-MODIFIED:20161118T174329Z
UID:1278-1481364000-1481378400@shaspets.com
SUMMARY:Pictures With Santa
DESCRIPTION:
URL:https://shaspets.com/calendar/pictures-with-santa/
LOCATION:Safe Haven Thrift Store\, 840 El Paseo Rd.\, Las Cruces\, NM\, 88001\, United States
ORGANIZER;CN="Safe Haven Animal Sanctuary":MAILTO:info@shaspets.com
END:VEVENT
BEGIN:VEVENT
DTSTART;TZID=UTC:20161119T103000
DTEND;TZID=UTC:20161119T143000
DTSTAMP:20260426T023833
CREATED:20161107T173010Z
LAST-MODIFIED:20161107T173010Z
UID:1269-1479551400-1479565800@shaspets.com
SUMMARY:SHAS Adoptions at PetSmart
DESCRIPTION:
URL:https://shaspets.com/calendar/shas-adoptions-petsmart/
LOCATION:NM
ORGANIZER;CN="Safe Haven Animal Sanctuary":MAILTO:info@shaspets.com
END:VEVENT
BEGIN:VEVENT
DTSTART;TZID=UTC:20161112T100000
DTEND;TZID=UTC:20161112T140000
DTSTAMP:20260426T023833
CREATED:20160830T170217Z
LAST-MODIFIED:20161011T194912Z
UID:1187-1478944800-1478959200@shaspets.com
SUMMARY:Walmart Donation Event
DESCRIPTION:
URL:https://shaspets.com/calendar/walmart-donation-event-4/
LOCATION:Walmart – Valley\, 1550 S. Valley\, Las Cruces\, NM\, 88005\, United States
ORGANIZER;CN="Safe Haven Animal Sanctuary":MAILTO:info@shaspets.com
END:VEVENT
BEGIN:VEVENT
DTSTART;TZID=UTC:20161105T180000
DTEND;TZID=UTC:20161105T210000
DTSTAMP:20260426T023833
CREATED:20161018T204647Z
LAST-MODIFIED:20161018T220731Z
UID:1245-1478368800-1478379600@shaspets.com
SUMMARY:Little Black Dress Swap
DESCRIPTION:
URL:https://shaspets.com/calendar/little-black-dress-swap/
LOCATION:Mesilla Community Center\, 2251 Calle De Santiago\, Las Cruces\, 88005\, United States
END:VEVENT
BEGIN:VEVENT
DTSTART;TZID=UTC:20161029T100000
DTEND;TZID=UTC:20161029T140000
DTSTAMP:20260426T023833
CREATED:20161008T021959Z
LAST-MODIFIED:20161008T021959Z
UID:1231-1477735200-1477749600@shaspets.com
SUMMARY:Halloween Photo Booth
DESCRIPTION:
URL:https://shaspets.com/calendar/halloween-photo-booth/
LOCATION:Safe Haven Thrift Store\, 840 El Paseo Rd.\, Las Cruces\, NM\, 88001\, United States
ORGANIZER;CN="Safe Haven Animal Sanctuary":MAILTO:info@shaspets.com
END:VEVENT
BEGIN:VEVENT
DTSTART;TZID=UTC:20161022T110000
DTEND;TZID=UTC:20161022T150000
DTSTAMP:20260426T023833
CREATED:20160714T165915Z
LAST-MODIFIED:20161003T232133Z
UID:1140-1477134000-1477148400@shaspets.com
SUMMARY:Adoption Event at Wild Birds Unlimited
DESCRIPTION:
URL:https://shaspets.com/calendar/adoption-event-wild-birds-unlimited/
LOCATION:Wild Birds Unlimited\, 2001 E Lohman Ave #130\, Las Cruces\, 88001\, United States
ORGANIZER;CN="Safe Haven Animal Sanctuary":MAILTO:info@shaspets.com
END:VEVENT
BEGIN:VEVENT
DTSTART;TZID=UTC:20161022T110000
DTEND;TZID=UTC:20161022T150000
DTSTAMP:20260426T023833
CREATED:20160714T163326Z
LAST-MODIFIED:20160930T190811Z
UID:1139-1477134000-1477148400@shaspets.com
SUMMARY:Adoption Event at PetSmart
DESCRIPTION:
URL:https://shaspets.com/calendar/adoption-event-petsmart-5/
LOCATION:NM
ORGANIZER;CN="Safe Haven Animal Sanctuary":MAILTO:info@shaspets.com
END:VEVENT
BEGIN:VEVENT
DTSTART;TZID=UTC:20161009T120000
DTEND;TZID=UTC:20161009T160000
DTSTAMP:20260426T023833
CREATED:20160907T202643Z
LAST-MODIFIED:20160920T175024Z
UID:1195-1476014400-1476028800@shaspets.com
SUMMARY:SHAS Annual Open House & Adopter Reunion
DESCRIPTION:
URL:https://shaspets.com/calendar/shas-open-house-adopter-reunion/
LOCATION:Safe Haven Animal Sanctuary\, 6890 Eagle Rd.\, Las Cruces\, NM\, 88012\, United States
ORGANIZER;CN="Safe Haven Animal Sanctuary":MAILTO:info@shaspets.com
END:VEVENT
BEGIN:VEVENT
DTSTART;TZID=UTC:20160924T110000
DTEND;TZID=UTC:20160924T150000
DTSTAMP:20260426T023833
CREATED:20160714T161455Z
LAST-MODIFIED:20160912T214259Z
UID:1138-1474714800-1474729200@shaspets.com
SUMMARY:Adoption Event at PetSmart
DESCRIPTION:
URL:https://shaspets.com/calendar/adoption-event-petsmart-4/
LOCATION:NM
ORGANIZER;CN="Safe Haven Animal Sanctuary":MAILTO:info@shaspets.com
END:VEVENT
BEGIN:VEVENT
DTSTART;TZID=UTC:20160917T110000
DTEND;TZID=UTC:20160917T150000
DTSTAMP:20260426T023833
CREATED:20160830T170607Z
LAST-MODIFIED:20160902T232408Z
UID:1189-1474110000-1474124400@shaspets.com
SUMMARY:Adoption Event at Tractor Supply
DESCRIPTION:
URL:https://shaspets.com/calendar/adoption-event-tractor-supply/
LOCATION:Tractor Supply Co.\, 1440 W. Picacho Ave.\, Las Cruces\, NM\, 88005\, United States
ORGANIZER;CN="Safe Haven Animal Sanctuary":MAILTO:info@shaspets.com
END:VEVENT
BEGIN:VEVENT
DTSTART;TZID=UTC:20160917T100000
DTEND;TZID=UTC:20160917T140000
DTSTAMP:20260426T023833
CREATED:20160912T205858Z
LAST-MODIFIED:20160912T205858Z
UID:1206-1474106400-1474120800@shaspets.com
SUMMARY:Dog Wash at Tractor Supply
DESCRIPTION:
URL:https://shaspets.com/calendar/dog-wash-tractor-supply/
LOCATION:Tractor Supply Co.\, 1440 W. Picacho Ave.\, Las Cruces\, NM\, 88005\, United States
ORGANIZER;CN="Safe Haven Animal Sanctuary":MAILTO:info@shaspets.com
END:VEVENT
BEGIN:VEVENT
DTSTART;TZID=UTC:20160910T100000
DTEND;TZID=UTC:20160910T140000
DTSTAMP:20260426T023833
CREATED:20160830T165704Z
LAST-MODIFIED:20160830T170006Z
UID:1183-1473501600-1473516000@shaspets.com
SUMMARY:Walmart Donation Event
DESCRIPTION:
URL:https://shaspets.com/calendar/walmart-donation-event-3/
LOCATION:Walmart – Valley\, 1550 S. Valley\, Las Cruces\, NM\, 88005\, United States
ORGANIZER;CN="Safe Haven Animal Sanctuary":MAILTO:info@shaspets.com
END:VEVENT
BEGIN:VEVENT
DTSTART;TZID=UTC:20160827T110000
DTEND;TZID=UTC:20160827T150000
DTSTAMP:20260426T023833
CREATED:20160810T233719Z
LAST-MODIFIED:20160810T234034Z
UID:1176-1472295600-1472310000@shaspets.com
SUMMARY:Adoption Event at PetSmart
DESCRIPTION:
URL:https://shaspets.com/calendar/adoption-event-petsmart-6/
LOCATION:NM
ORGANIZER;CN="Safe Haven Animal Sanctuary":MAILTO:info@shaspets.com
END:VEVENT
BEGIN:VEVENT
DTSTART;TZID=UTC:20160810T080000
DTEND;TZID=UTC:20160810T190000
DTSTAMP:20260426T023833
CREATED:20160722T184927Z
LAST-MODIFIED:20160725T172255Z
UID:1147-1470816000-1470855600@shaspets.com
SUMMARY:Fix & Chip Spay & Neuter Clinic
DESCRIPTION:
URL:https://shaspets.com/calendar/fix-chip-spay-neuter-clinic-3/
LOCATION:NM
END:VEVENT
BEGIN:VEVENT
DTSTART;TZID=UTC:20160809T080000
DTEND;TZID=UTC:20160809T190000
DTSTAMP:20260426T023833
CREATED:20160722T184812Z
LAST-MODIFIED:20160725T172149Z
UID:1146-1470729600-1470769200@shaspets.com
SUMMARY:Fix & Chip Spay & Neuter Clinic
DESCRIPTION:
URL:https://shaspets.com/calendar/fix-chip-spay-neuter-clinic-2/
LOCATION:NM
END:VEVENT
BEGIN:VEVENT
DTSTART;TZID=UTC:20160808T080000
DTEND;TZID=UTC:20160808T190000
DTSTAMP:20260426T023833
CREATED:20160722T184550Z
LAST-MODIFIED:20160725T172054Z
UID:1143-1470643200-1470682800@shaspets.com
SUMMARY:Fix & Chip Spay & Neuter Clinic
DESCRIPTION:
URL:https://shaspets.com/calendar/fix-chip-spay-neuter-clinic/
LOCATION:NM
END:VEVENT
BEGIN:VEVENT
DTSTART;TZID=UTC:20160723T110000
DTEND;TZID=UTC:20160723T150000
DTSTAMP:20260426T023833
CREATED:20160708T215332Z
LAST-MODIFIED:20160708T215332Z
UID:1124-1469271600-1469286000@shaspets.com
SUMMARY:Adoption Event at PetSmart
DESCRIPTION:
URL:https://shaspets.com/calendar/adoption-event-petsmart-2/
LOCATION:NM
ORGANIZER;CN="Safe Haven Animal Sanctuary":MAILTO:info@shaspets.com
END:VEVENT
BEGIN:VEVENT
DTSTART;TZID=UTC:20160722T150000
DTEND;TZID=UTC:20160722T190000
DTSTAMP:20260426T023833
CREATED:20160714T043607Z
LAST-MODIFIED:20160714T043607Z
UID:1132-1469199600-1469214000@shaspets.com
SUMMARY:Walmart Donation Event
DESCRIPTION:
URL:https://shaspets.com/calendar/walmart-donation-event-2/
LOCATION:Walmart – Valley\, 1550 S. Valley\, Las Cruces\, NM\, 88005\, United States
ORGANIZER;CN="Safe Haven Animal Sanctuary":MAILTO:info@shaspets.com
END:VEVENT
BEGIN:VEVENT
DTSTART;TZID=UTC:20160702T100000
DTEND;TZID=UTC:20160702T140000
DTSTAMP:20260426T023833
CREATED:20160619T013622Z
LAST-MODIFIED:20160629T190200Z
UID:1095-1467453600-1467468000@shaspets.com
SUMMARY:Patriotic Photo Booth
DESCRIPTION:
URL:https://shaspets.com/calendar/patriotic-photo-booth/
LOCATION:Safe Haven Thrift Store\, 840 El Paseo Rd.\, Las Cruces\, NM\, 88001\, United States
ORGANIZER;CN="Safe Haven Animal Sanctuary":MAILTO:info@shaspets.com
END:VEVENT
BEGIN:VEVENT
DTSTART;TZID=UTC:20160625T110000
DTEND;TZID=UTC:20160625T150000
DTSTAMP:20260426T023833
CREATED:20160613T155712Z
LAST-MODIFIED:20160623T184755Z
UID:1090-1466852400-1466866800@shaspets.com
SUMMARY:Adoption Event at PetSmart
DESCRIPTION:Download Flyer – Adoption Event at PetSmart
URL:https://shaspets.com/calendar/adoption-event-petsmart/
LOCATION:PetSmart\, 2200 E Lohman\, Las Cruces\, 88001\, United States
ORGANIZER;CN="Safe Haven Animal Sanctuary":MAILTO:info@shaspets.com
END:VEVENT
BEGIN:VEVENT
DTSTART;TZID=UTC:20160611T100000
DTEND;TZID=UTC:20160611T150000
DTSTAMP:20260426T023833
CREATED:20160606T214539Z
LAST-MODIFIED:20160607T005657Z
UID:1085-1465639200-1465657200@shaspets.com
SUMMARY:Summertime Photo Booth @ Tractor Supply
DESCRIPTION:Download Flyer – Summertime Photo Booth @ Tractor Supply
URL:https://shaspets.com/calendar/summertime-photo-booth-tractor-supply/
LOCATION:Tractor Supply Co.\, 1440 W. Picacho Ave.\, Las Cruces\, NM\, 88005\, United States
CATEGORIES:Pet Photos
ORGANIZER;CN="Safe Haven Animal Sanctuary":MAILTO:info@shaspets.com
END:VEVENT
BEGIN:VEVENT
DTSTART;TZID=UTC:20160519T173000
DTEND;TZID=UTC:20160519T200000
DTSTAMP:20260426T023833
CREATED:20160418T170327Z
LAST-MODIFIED:20160419T171335Z
UID:1059-1463679000-1463688000@shaspets.com
SUMMARY:6th Annual "Wineing for the Animals"
DESCRIPTION:Our 6th annual “Wineing for the Animals” signature fundraiser will be held Thursday\, May 19th at the Amaro Winery\, located at 402 S. Melendres Street. Proceeds from this fundraiser will benefit the nearly 90 cats and dogs residing at Safe Haven while they await adoption. Tickets include hot and cold appetizers\, a free glass of wine\, live music on the patio and door prizes. The silent auction will feature a variety of items from local artists and businesses. Tickets are $25 each or $45 for two and can be purchased at the SHAS Thrift Store\, Amaro Winery\, shaspets.com using the PayPal link (must indicate “Ticket Purchase”)\, or call Robin at 575-522-1044. Safe Haven Animal Sanctuary is the largest no-kill\, non-profit adoption center for cats & dogs in the Las Cruces area. \n \nDownload Flyer – 2016 SHAS – Wineing Poster
URL:https://shaspets.com/calendar/6th-annual-wineing-animals/
LOCATION:Amaro Winery\, 402 S. Melendres\, Las Cruces\, NM\, 88005\, United States
END:VEVENT
BEGIN:VEVENT
DTSTART;TZID=UTC:20160514T110000
DTEND;TZID=UTC:20160514T150000
DTSTAMP:20260426T023833
CREATED:20160506T204758Z
LAST-MODIFIED:20160508T182258Z
UID:1077-1463223600-1463238000@shaspets.com
SUMMARY:SHAS & PetSmart Adoption Event
DESCRIPTION:Download Flyer – SHAS & PetSmart Adoption Event
URL:https://shaspets.com/calendar/shas-petsmart-adoption-event/
LOCATION:NM
ORGANIZER;CN="Safe Haven Animal Sanctuary":MAILTO:info@shaspets.com
END:VEVENT
BEGIN:VEVENT
DTSTART;TZID=UTC:20160507T100000
DTEND;TZID=UTC:20160507T150000
DTSTAMP:20260426T023833
CREATED:20160426T224718Z
LAST-MODIFIED:20160427T153343Z
UID:1071-1462615200-1462633200@shaspets.com
SUMMARY:SHAS Dog Wash at Better Life
DESCRIPTION:Download Flyer – SHAS Dog Wash at Better Life
URL:https://shaspets.com/calendar/shas-dog-wash/
LOCATION:Better Life Natural Pet Foods\, 315 Telshor Blvd\, Las Cruces\, NM\, 88011\, United States
ORGANIZER;CN="Safe Haven Animal Sanctuary":MAILTO:info@shaspets.com
END:VEVENT
BEGIN:VEVENT
DTSTART;TZID=UTC:20160430T110000
DTEND;TZID=UTC:20160430T150000
DTSTAMP:20260426T023833
CREATED:20160229T013400Z
LAST-MODIFIED:20160419T174203Z
UID:1021-1462014000-1462028400@shaspets.com
SUMMARY:SHAS & Wild Birds Unlimited Adoption Event
DESCRIPTION:Download Flyer – SHAS & Wild Birds Unlimited Adoption Event
URL:https://shaspets.com/calendar/adoption-event-wild-bird-unlimited/
LOCATION:Wild Birds Unlimited\, 2001 E Lohman Ave #130\, Las Cruces\, 88001\, United States
ORGANIZER;CN="Safe Haven Animal Sanctuary":MAILTO:info@shaspets.com
END:VEVENT
BEGIN:VEVENT
DTSTART;TZID=UTC:20160416T110000
DTEND;TZID=UTC:20160416T150000
DTSTAMP:20260426T023833
CREATED:20160411T184216Z
LAST-MODIFIED:20160411T184216Z
UID:1051-1460804400-1460818800@shaspets.com
SUMMARY:SHAS & Ashley Furniture Adoption Event
DESCRIPTION:
URL:https://shaspets.com/calendar/shas-ashley-furniture-adoption-event-2/
LOCATION:Ashley HomeStore\, 3299 Del Rey Blvd.\, Las Cruces\, NM\, 88012\, United States
ORGANIZER;CN="Safe Haven Animal Sanctuary":MAILTO:info@shaspets.com
END:VEVENT
END:VCALENDAR