BEGIN:VCALENDAR
VERSION:2.0
PRODID:-//Safe Haven Animal Sanctuary - ECPv6.15.20//NONSGML v1.0//EN
CALSCALE:GREGORIAN
METHOD:PUBLISH
X-ORIGINAL-URL:https://shaspets.com
X-WR-CALDESC:Events for Safe Haven Animal Sanctuary
REFRESH-INTERVAL;VALUE=DURATION:PT1H
X-Robots-Tag:noindex
X-PUBLISHED-TTL:PT1H
BEGIN:VTIMEZONE
TZID:UTC
BEGIN:STANDARD
TZOFFSETFROM:+0000
TZOFFSETTO:+0000
TZNAME:UTC
DTSTART:20180101T000000
END:STANDARD
END:VTIMEZONE
BEGIN:VEVENT
DTSTART;TZID=UTC:20200314T100000
DTEND;TZID=UTC:20200314T140000
DTSTAMP:20260424T035132
CREATED:20200303T184101Z
LAST-MODIFIED:20200303T184101Z
UID:6519-1584180000-1584194400@shaspets.com
SUMMARY:Adoption Event At Pitre Kia of Las Cruces
DESCRIPTION:
URL:https://shaspets.com/calendar/adoption-event-at-pitre-kia-of-las-cruces-2/
LOCATION:Pitre Kia of Las Cruces\, 1840 N. Main St.\, Las Cruces\, NM\, 88001\, United States
ORGANIZER;CN="Safe Haven Animal Sanctuary":MAILTO:info@shaspets.com
END:VEVENT
BEGIN:VEVENT
DTSTART;TZID=UTC:20200305T160000
DTEND;TZID=UTC:20200305T190000
DTSTAMP:20260424T035132
CREATED:20200303T183825Z
LAST-MODIFIED:20200303T183825Z
UID:6515-1583424000-1583434800@shaspets.com
SUMMARY:Rudy's To The Rescue Adoption Promotion
DESCRIPTION:
URL:https://shaspets.com/calendar/rudys-to-the-rescue-adoption-promotion-15/
LOCATION:Rudy’s Bar-B-Q\, 1020 N. Telshor Blvd.\, Las Cruces\, NM\, 88011\, United States
ORGANIZER;CN="Safe Haven Animal Sanctuary":MAILTO:info@shaspets.com
END:VEVENT
BEGIN:VEVENT
DTSTART;TZID=UTC:20200222T103000
DTEND;TZID=UTC:20200222T143000
DTSTAMP:20260424T035132
CREATED:20200204T191242Z
LAST-MODIFIED:20200204T191242Z
UID:6496-1582367400-1582381800@shaspets.com
SUMMARY:PetSmart Adoption Event
DESCRIPTION:
URL:https://shaspets.com/calendar/petsmart-adoption-event-3/
LOCATION:PetSmart\, 2200 E Lohman\, Las Cruces\, 88001\, United States
ORGANIZER;CN="Safe Haven Animal Sanctuary":MAILTO:info@shaspets.com
END:VEVENT
BEGIN:VEVENT
DTSTART;TZID=UTC:20200216T103000
DTEND;TZID=UTC:20200216T143000
DTSTAMP:20260424T035132
CREATED:20200208T010348Z
LAST-MODIFIED:20200208T010348Z
UID:6500-1581849000-1581863400@shaspets.com
SUMMARY:Walmart Donation Drive
DESCRIPTION:
URL:https://shaspets.com/calendar/walmart-donation-drive-10/
LOCATION:Walmart Neighborhood Market\, 150 Sonoma Ranch Blvd\, Las Cruces\, NM\, 88011\, United States
ORGANIZER;CN="Safe Haven Animal Sanctuary":MAILTO:info@shaspets.com
END:VEVENT
BEGIN:VEVENT
DTSTART;TZID=UTC:20200208T100000
DTEND;TZID=UTC:20200208T140000
DTSTAMP:20260424T035132
CREATED:20200122T205823Z
LAST-MODIFIED:20200122T205823Z
UID:6484-1581156000-1581170400@shaspets.com
SUMMARY:Adoption Event at Pitre Kia of Las Cruces
DESCRIPTION:
URL:https://shaspets.com/calendar/adoption-event-at-pitre-kia-of-las-cruces/
LOCATION:Pitre Kia of Las Cruces\, 1840 N. Main St.\, Las Cruces\, NM\, 88001\, United States
ORGANIZER;CN="Safe Haven Animal Sanctuary":MAILTO:info@shaspets.com
END:VEVENT
BEGIN:VEVENT
DTSTART;TZID=UTC:20200206T160000
DTEND;TZID=UTC:20200206T190000
DTSTAMP:20260424T035132
CREATED:20200122T205329Z
LAST-MODIFIED:20200122T205329Z
UID:6479-1581004800-1581015600@shaspets.com
SUMMARY:Rudy's To The Rescue Adoption Promotion
DESCRIPTION:
URL:https://shaspets.com/calendar/rudys-to-the-rescue-adoption-promotion-14/
LOCATION:Rudy’s Bar-B-Q\, 1020 N. Telshor Blvd.\, Las Cruces\, NM\, 88011\, United States
ORGANIZER;CN="Safe Haven Animal Sanctuary":MAILTO:info@shaspets.com
END:VEVENT
BEGIN:VEVENT
DTSTART;TZID=UTC:20200126T080000
DTEND;TZID=UTC:20200126T173000
DTSTAMP:20260424T035132
CREATED:20191215T043215Z
LAST-MODIFIED:20191215T043215Z
UID:6434-1580025600-1580059800@shaspets.com
SUMMARY:SNIP SNIP HOORAY! Low-Cost Spay/Neuter Clinic
DESCRIPTION:
URL:https://shaspets.com/calendar/snip-snip-hooray-low-cost-spay-neuter-clinic-9/
LOCATION:NM
ORGANIZER;CN="Safe Haven Animal Sanctuary":MAILTO:info@shaspets.com
END:VEVENT
BEGIN:VEVENT
DTSTART;TZID=UTC:20200125T103000
DTEND;TZID=UTC:20200125T143000
DTSTAMP:20260424T035132
CREATED:20200110T021612Z
LAST-MODIFIED:20200110T021715Z
UID:6466-1579948200-1579962600@shaspets.com
SUMMARY:PetSmart Adoption Event
DESCRIPTION:
URL:https://shaspets.com/calendar/petsmart-adoptions-20/
LOCATION:PetSmart\, 2200 E Lohman\, Las Cruces\, 88001\, United States
ORGANIZER;CN="Safe Haven Animal Sanctuary":MAILTO:info@shaspets.com
END:VEVENT
BEGIN:VEVENT
DTSTART;TZID=UTC:20200125T080000
DTEND;TZID=UTC:20200125T173000
DTSTAMP:20260424T035132
CREATED:20191215T042944Z
LAST-MODIFIED:20191215T042944Z
UID:6431-1579939200-1579973400@shaspets.com
SUMMARY:SNIP SNIP HOORAY! Low-Cost Spay/Neuter Clinic
DESCRIPTION:
URL:https://shaspets.com/calendar/snip-snip-hooray-low-cost-spay-neuter-clinic-8/
LOCATION:NM
ORGANIZER;CN="Safe Haven Animal Sanctuary":MAILTO:info@shaspets.com
END:VEVENT
BEGIN:VEVENT
DTSTART;TZID=UTC:20200124T080000
DTEND;TZID=UTC:20200124T173000
DTSTAMP:20260424T035132
CREATED:20191215T042822Z
LAST-MODIFIED:20191215T042822Z
UID:6427-1579852800-1579887000@shaspets.com
SUMMARY:SNIP SNIP HOORAY! Low-Cost Spay/Neuter Clinic
DESCRIPTION:
URL:https://shaspets.com/calendar/snip-snip-hooray-low-cost-spay-neuter-clinic-7/
LOCATION:NM
ORGANIZER;CN="Safe Haven Animal Sanctuary":MAILTO:info@shaspets.com
END:VEVENT
BEGIN:VEVENT
DTSTART;TZID=UTC:20191214T100000
DTEND;TZID=UTC:20191214T140000
DTSTAMP:20260424T035132
CREATED:20191215T042412Z
LAST-MODIFIED:20191215T042412Z
UID:6422-1576317600-1576332000@shaspets.com
SUMMARY:Photos with Santa
DESCRIPTION:
URL:https://shaspets.com/calendar/photos-with-santa-2/
LOCATION:Safe Haven Thrift Store\, 840 El Paseo Rd.\, Las Cruces\, NM\, 88001\, United States
ORGANIZER;CN="Safe Haven Animal Sanctuary":MAILTO:info@shaspets.com
END:VEVENT
BEGIN:VEVENT
DTSTART;TZID=UTC:20191123T103000
DTEND;TZID=UTC:20191123T143000
DTSTAMP:20260424T035132
CREATED:20191112T215358Z
LAST-MODIFIED:20191112T215358Z
UID:6405-1574505000-1574519400@shaspets.com
SUMMARY:PetSmart Adoption Event
DESCRIPTION:
URL:https://shaspets.com/calendar/petsmart-adoption-event-2/
LOCATION:PetSmart\, 2200 E Lohman\, Las Cruces\, 88001\, United States
ORGANIZER;CN="Safe Haven Animal Sanctuary":MAILTO:info@shaspets.com
END:VEVENT
BEGIN:VEVENT
DTSTART;TZID=UTC:20191116T100000
DTEND;TZID=UTC:20191116T140000
DTSTAMP:20260424T035132
CREATED:20191112T215140Z
LAST-MODIFIED:20191112T215140Z
UID:6401-1573898400-1573912800@shaspets.com
SUMMARY:Walmart Donation Drive
DESCRIPTION:
URL:https://shaspets.com/calendar/walmart-donation-drive-9/
LOCATION:Walmart Neighborhood Market\, 150 Sonoma Ranch Blvd\, Las Cruces\, NM\, 88011\, United States
ORGANIZER;CN="Safe Haven Animal Sanctuary":MAILTO:info@shaspets.com
END:VEVENT
BEGIN:VEVENT
DTSTART;TZID=UTC:20191107T160000
DTEND;TZID=UTC:20191107T190000
DTSTAMP:20260424T035132
CREATED:20191008T210022Z
LAST-MODIFIED:20191008T210022Z
UID:6381-1573142400-1573153200@shaspets.com
SUMMARY:Rudy's to the Rescue Adoption Promotion
DESCRIPTION:
URL:https://shaspets.com/calendar/rudys-to-the-rescue-adoption-promotion-13/
LOCATION:Rudy’s Bar-B-Q\, 1020 N. Telshor Blvd.\, Las Cruces\, NM\, 88011\, United States
ORGANIZER;CN="Safe Haven Animal Sanctuary":MAILTO:info@shaspets.com
END:VEVENT
BEGIN:VEVENT
DTSTART;TZID=UTC:20191026T103000
DTEND;TZID=UTC:20191026T143000
DTSTAMP:20260424T035132
CREATED:20191008T202428Z
LAST-MODIFIED:20191008T202428Z
UID:6377-1572085800-1572100200@shaspets.com
SUMMARY:PetSmart Adoptions
DESCRIPTION:
URL:https://shaspets.com/calendar/petsmart-adoptions-19/
LOCATION:PetSmart\, 2200 E Lohman\, Las Cruces\, 88001\, United States
ORGANIZER;CN="Safe Haven Animal Sanctuary":MAILTO:info@shaspets.com
END:VEVENT
BEGIN:VEVENT
DTSTART;TZID=UTC:20191026T100000
DTEND;TZID=UTC:20191026T140000
DTSTAMP:20260424T035132
CREATED:20191008T201932Z
LAST-MODIFIED:20191008T201932Z
UID:6373-1572084000-1572098400@shaspets.com
SUMMARY:Halloween Photo Booth & Trick or Treat
DESCRIPTION:
URL:https://shaspets.com/calendar/halloween-photo-booth-trick-or-treat-2/
LOCATION:Safe Haven Thrift Store\, 840 El Paseo Rd.\, Las Cruces\, NM\, 88001\, United States
ORGANIZER;CN="Safe Haven Animal Sanctuary":MAILTO:info@shaspets.com
END:VEVENT
BEGIN:VEVENT
DTSTART;TZID=UTC:20191006T120000
DTEND;TZID=UTC:20191006T160000
DTSTAMP:20260424T035132
CREATED:20190919T191215Z
LAST-MODIFIED:20190919T191215Z
UID:6345-1570363200-1570377600@shaspets.com
SUMMARY:SHAS Open House & 5th Annual Adopter Reunion
DESCRIPTION:
URL:https://shaspets.com/calendar/shas-open-house-5th-annual-adopter-reunion/
LOCATION:Safe Haven Animal Sanctuary\, 6890 Eagle Rd.\, Las Cruces\, NM\, 88012\, United States
ORGANIZER;CN="Safe Haven Animal Sanctuary":MAILTO:info@shaspets.com
END:VEVENT
BEGIN:VEVENT
DTSTART;TZID=UTC:20191003T160000
DTEND;TZID=UTC:20191003T190000
DTSTAMP:20260424T035132
CREATED:20190919T192309Z
LAST-MODIFIED:20190919T192309Z
UID:6349-1570118400-1570129200@shaspets.com
SUMMARY:Rudy's to the Rescue Adoption Promotion
DESCRIPTION:
URL:https://shaspets.com/calendar/rudys-to-the-rescue-adoption-promotion-12/
LOCATION:Rudy’s Bar-B-Q\, 1020 N. Telshor Blvd.\, Las Cruces\, NM\, 88011\, United States
ORGANIZER;CN="Safe Haven Animal Sanctuary":MAILTO:info@shaspets.com
END:VEVENT
BEGIN:VEVENT
DTSTART;TZID=UTC:20190928T103000
DTEND;TZID=UTC:20190928T143000
DTSTAMP:20260424T035132
CREATED:20190902T043031Z
LAST-MODIFIED:20190904T183819Z
UID:6317-1569666600-1569681000@shaspets.com
SUMMARY:PetSmart Adoption Event
DESCRIPTION:
URL:https://shaspets.com/calendar/petsmart-adoption-event/
LOCATION:PetSmart\, 2200 E Lohman\, Las Cruces\, 88001\, United States
ORGANIZER;CN="Safe Haven Animal Sanctuary":MAILTO:info@shaspets.com
END:VEVENT
BEGIN:VEVENT
DTSTART;TZID=UTC:20190921T100000
DTEND;TZID=UTC:20190921T150000
DTSTAMP:20260424T035132
CREATED:20190918T021717Z
LAST-MODIFIED:20190918T021717Z
UID:6341-1569060000-1569078000@shaspets.com
SUMMARY:SHAS at Picacho Mountain Outdoor Festival
DESCRIPTION:
URL:https://shaspets.com/calendar/shas-at-picacho-mountain-outdoor-festival/
LOCATION:NM
END:VEVENT
BEGIN:VEVENT
DTSTART;TZID=UTC:20190914T080000
DTEND;TZID=UTC:20190914T170000
DTSTAMP:20260424T035132
CREATED:20190811T201510Z
LAST-MODIFIED:20190811T201510Z
UID:6295-1568448000-1568480400@shaspets.com
SUMMARY:SNIP SNIP HOORAY! Low-Cost Spay/Neuter Clinic
DESCRIPTION:
URL:https://shaspets.com/calendar/snip-snip-hooray-low-cost-spay-neuter-clinic-6/
LOCATION:NM
ORGANIZER;CN="Safe Haven Animal Sanctuary":MAILTO:info@shaspets.com
END:VEVENT
BEGIN:VEVENT
DTSTART;TZID=UTC:20190913T080000
DTEND;TZID=UTC:20190913T170000
DTSTAMP:20260424T035132
CREATED:20190811T201311Z
LAST-MODIFIED:20190811T201311Z
UID:6291-1568361600-1568394000@shaspets.com
SUMMARY:SNIP SNIP HOORAY! Low-Cost Spay/Neuter Clinic
DESCRIPTION:
URL:https://shaspets.com/calendar/snip-snip-hooray-low-cost-spay-neuter-clinic-5/
LOCATION:NM
ORGANIZER;CN="Safe Haven Animal Sanctuary":MAILTO:info@shaspets.com
END:VEVENT
BEGIN:VEVENT
DTSTART;TZID=UTC:20190907T100000
DTEND;TZID=UTC:20190907T140000
DTSTAMP:20260424T035132
CREATED:20190902T042814Z
LAST-MODIFIED:20190902T045147Z
UID:6314-1567850400-1567864800@shaspets.com
SUMMARY:Walmart Donation Drive
DESCRIPTION:
URL:https://shaspets.com/calendar/walmart-donation-drive-8/
LOCATION:Walmart Neighborhood Market\, 150 Sonoma Ranch Blvd\, Las Cruces\, NM\, 88011\, United States
ORGANIZER;CN="Safe Haven Animal Sanctuary":MAILTO:info@shaspets.com
END:VEVENT
BEGIN:VEVENT
DTSTART;TZID=UTC:20190905T080000
DTEND;TZID=UTC:20190905T170000
DTSTAMP:20260424T035132
CREATED:20190902T041010Z
LAST-MODIFIED:20190902T041010Z
UID:6310-1567670400-1567702800@shaspets.com
SUMMARY:Rudy's to the Rescue Adoption Promotion
DESCRIPTION:
URL:https://shaspets.com/calendar/rudys-to-the-rescue-adoption-promotion-11/
LOCATION:Rudy’s Bar-B-Q\, 1020 N. Telshor Blvd.\, Las Cruces\, NM\, 88011\, United States
ORGANIZER;CN="Safe Haven Animal Sanctuary":MAILTO:info@shaspets.com
END:VEVENT
BEGIN:VEVENT
DTSTART;TZID=UTC:20190824T103000
DTEND;TZID=UTC:20190824T143000
DTSTAMP:20260424T035132
CREATED:20190811T200747Z
LAST-MODIFIED:20190811T200747Z
UID:6287-1566642600-1566657000@shaspets.com
SUMMARY:PetSmart Adoptions
DESCRIPTION:
URL:https://shaspets.com/calendar/petsmart-adoptions-18/
LOCATION:PetSmart\, 2200 E Lohman\, Las Cruces\, 88001\, United States
ORGANIZER;CN="Safe Haven Animal Sanctuary":MAILTO:info@shaspets.com
END:VEVENT
BEGIN:VEVENT
DTSTART;TZID=UTC:20190801T160000
DTEND;TZID=UTC:20190801T190000
DTSTAMP:20260424T035132
CREATED:20190731T214144Z
LAST-MODIFIED:20190731T214144Z
UID:6267-1564675200-1564686000@shaspets.com
SUMMARY:Rudy's to the Rescue Social & Donation Event
DESCRIPTION:
URL:https://shaspets.com/calendar/rudys-to-the-rescue-social-donation-event/
LOCATION:Rudy’s Bar-B-Q\, 1020 N. Telshor Blvd.\, Las Cruces\, NM\, 88011\, United States
ORGANIZER;CN="Safe Haven Animal Sanctuary":MAILTO:info@shaspets.com
END:VEVENT
BEGIN:VEVENT
DTSTART;TZID=UTC:20190727T103000
DTEND;TZID=UTC:20190727T143000
DTSTAMP:20260424T035132
CREATED:20190715T232648Z
LAST-MODIFIED:20190715T232648Z
UID:6257-1564223400-1564237800@shaspets.com
SUMMARY:PetSmart Adoptions
DESCRIPTION:
URL:https://shaspets.com/calendar/petsmart-adoptions-17/
LOCATION:PetSmart\, 2200 E Lohman\, Las Cruces\, 88001\, United States
END:VEVENT
BEGIN:VEVENT
DTSTART;TZID=UTC:20190629T103000
DTEND;TZID=UTC:20190629T143000
DTSTAMP:20260424T035132
CREATED:20190530T222304Z
LAST-MODIFIED:20190530T222304Z
UID:6209-1561804200-1561818600@shaspets.com
SUMMARY:Walmart Donation Drive
DESCRIPTION:
URL:https://shaspets.com/calendar/walmart-donation-drive-7/
LOCATION:Walmart Neighborhood Market\, 150 Sonoma Ranch Blvd\, Las Cruces\, NM\, 88011\, United States
ORGANIZER;CN="Safe Haven Animal Sanctuary":MAILTO:info@shaspets.com
END:VEVENT
BEGIN:VEVENT
DTSTART;TZID=UTC:20190629T100000
DTEND;TZID=UTC:20190629T140000
DTSTAMP:20260424T035132
CREATED:20190530T222616Z
LAST-MODIFIED:20190530T222616Z
UID:6214-1561802400-1561816800@shaspets.com
SUMMARY:Patriotic Photo Booth
DESCRIPTION:
URL:https://shaspets.com/calendar/patriotic-photo-booth-4/
LOCATION:Safe Haven Thrift Store\, 840 El Paseo Rd.\, Las Cruces\, NM\, 88001\, United States
END:VEVENT
BEGIN:VEVENT
DTSTART;TZID=UTC:20190622T103000
DTEND;TZID=UTC:20190622T143000
DTSTAMP:20260424T035132
CREATED:20190614T204245Z
LAST-MODIFIED:20190614T204245Z
UID:6222-1561199400-1561213800@shaspets.com
SUMMARY:PetSmart Adoptions
DESCRIPTION:
URL:https://shaspets.com/calendar/petsmart-adoptions-16/
LOCATION:PetSmart\, 2200 E Lohman\, Las Cruces\, 88001\, United States
ORGANIZER;CN="Safe Haven Animal Sanctuary":MAILTO:info@shaspets.com
END:VEVENT
END:VCALENDAR