BEGIN:VCALENDAR
VERSION:2.0
PRODID:-//Safe Haven Animal Sanctuary - ECPv6.15.20//NONSGML v1.0//EN
CALSCALE:GREGORIAN
METHOD:PUBLISH
X-WR-CALNAME:Safe Haven Animal Sanctuary
X-ORIGINAL-URL:https://shaspets.com
X-WR-CALDESC:Events for Safe Haven Animal Sanctuary
REFRESH-INTERVAL;VALUE=DURATION:PT1H
X-Robots-Tag:noindex
X-PUBLISHED-TTL:PT1H
BEGIN:VTIMEZONE
TZID:America/Chicago
BEGIN:DAYLIGHT
TZOFFSETFROM:-0600
TZOFFSETTO:-0500
TZNAME:CDT
DTSTART:20220313T080000
END:DAYLIGHT
BEGIN:STANDARD
TZOFFSETFROM:-0500
TZOFFSETTO:-0600
TZNAME:CST
DTSTART:20221106T070000
END:STANDARD
BEGIN:DAYLIGHT
TZOFFSETFROM:-0600
TZOFFSETTO:-0500
TZNAME:CDT
DTSTART:20230312T080000
END:DAYLIGHT
BEGIN:STANDARD
TZOFFSETFROM:-0500
TZOFFSETTO:-0600
TZNAME:CST
DTSTART:20231105T070000
END:STANDARD
BEGIN:DAYLIGHT
TZOFFSETFROM:-0600
TZOFFSETTO:-0500
TZNAME:CDT
DTSTART:20240310T080000
END:DAYLIGHT
BEGIN:STANDARD
TZOFFSETFROM:-0500
TZOFFSETTO:-0600
TZNAME:CST
DTSTART:20241103T070000
END:STANDARD
END:VTIMEZONE
BEGIN:VTIMEZONE
TZID:UTC
BEGIN:STANDARD
TZOFFSETFROM:+0000
TZOFFSETTO:+0000
TZNAME:UTC
DTSTART:20220101T000000
END:STANDARD
END:VTIMEZONE
BEGIN:VEVENT
DTSTART;TZID=America/Chicago:20230415T100000
DTEND;TZID=America/Chicago:20230415T140000
DTSTAMP:20260425T194426
CREATED:20230413T192320Z
LAST-MODIFIED:20230413T192320Z
UID:7108-1681552800-1681567200@shaspets.com
SUMMARY:Ashley HomeStore Adoption Event 4/15/23
DESCRIPTION:
URL:https://shaspets.com/calendar/ashley-homestore-adoption-event-4-15-23/
LOCATION:Ashley HomeStore\, 3299 Del Rey Blvd.\, Las Cruces\, NM\, 88012\, United States
ORGANIZER;CN="Safe Haven Animal Sanctuary":MAILTO:info@shaspets.com
END:VEVENT
BEGIN:VEVENT
DTSTART;TZID=UTC:20230428T100000
DTEND;TZID=UTC:20230428T140000
DTSTAMP:20260425T194426
CREATED:20230424T230806Z
LAST-MODIFIED:20230424T230806Z
UID:7113-1682676000-1682690400@shaspets.com
SUMMARY:Carson Wealth Adoption & Shred Event 4/28/23
DESCRIPTION:
URL:https://shaspets.com/calendar/carson-wealth-adoption-shred-event-4-28-23/
LOCATION:Carson Wealth\, 1340 Picacho Hills Drive\, Las Cruces\, 88007\, United States
ORGANIZER;CN="Safe Haven Animal Sanctuary":MAILTO:info@shaspets.com
END:VEVENT
END:VCALENDAR