BEGIN:VCALENDAR
VERSION:2.0
PRODID:-//Safe Haven Animal Sanctuary - ECPv6.15.20//NONSGML v1.0//EN
CALSCALE:GREGORIAN
METHOD:PUBLISH
X-ORIGINAL-URL:https://shaspets.com
X-WR-CALDESC:Events for Safe Haven Animal Sanctuary
REFRESH-INTERVAL;VALUE=DURATION:PT1H
X-Robots-Tag:noindex
X-PUBLISHED-TTL:PT1H
BEGIN:VTIMEZONE
TZID:UTC
BEGIN:STANDARD
TZOFFSETFROM:+0000
TZOFFSETTO:+0000
TZNAME:UTC
DTSTART:20220101T000000
END:STANDARD
END:VTIMEZONE
BEGIN:VEVENT
DTSTART;TZID=UTC:20231014T100000
DTEND;TZID=UTC:20231014T140000
DTSTAMP:20260425T110038
CREATED:20231013T024310Z
LAST-MODIFIED:20231013T024310Z
UID:7168-1697277600-1697292000@shaspets.com
SUMMARY:Walmart Neighborhood Market Donation Drive 10/14/23
DESCRIPTION:
URL:https://shaspets.com/calendar/walmart-neighborhood-market-donation-drive-10-14-23/
LOCATION:Walmart Neighborhood Market\, 150 Sonoma Ranch Blvd\, Las Cruces\, NM\, 88011\, United States
END:VEVENT
BEGIN:VEVENT
DTSTART;TZID=UTC:20231020T120000
DTEND;TZID=UTC:20231020T180000
DTSTAMP:20260425T110038
CREATED:20230901T005505Z
LAST-MODIFIED:20230901T005505Z
UID:7144-1697803200-1697824800@shaspets.com
SUMMARY:SHAS Putts Fore Paws Charity Golf Tournament
DESCRIPTION:
URL:https://shaspets.com/calendar/shas-putts-fore-paws-charity-golf-tournament-2/
LOCATION:Sonoma Ranch Golf Course\, 1274 Golf Club Rd\, Las Cruces\, NM\, 88011\, United States
ORGANIZER;CN="Safe Haven Animal Sanctuary":MAILTO:info@shaspets.com
END:VEVENT
END:VCALENDAR