BEGIN:VCALENDAR
VERSION:2.0
PRODID:-//Safe Haven Animal Sanctuary - ECPv6.15.20//NONSGML v1.0//EN
CALSCALE:GREGORIAN
METHOD:PUBLISH
X-ORIGINAL-URL:https://shaspets.com
X-WR-CALDESC:Events for Safe Haven Animal Sanctuary
REFRESH-INTERVAL;VALUE=DURATION:PT1H
X-Robots-Tag:noindex
X-PUBLISHED-TTL:PT1H
BEGIN:VTIMEZONE
TZID:UTC
BEGIN:STANDARD
TZOFFSETFROM:+0000
TZOFFSETTO:+0000
TZNAME:UTC
DTSTART:20230101T000000
END:STANDARD
END:VTIMEZONE
BEGIN:VEVENT
DTSTART;TZID=UTC:20240316T100000
DTEND;TZID=UTC:20240316T140000
DTSTAMP:20260425T033353
CREATED:20240314T231436Z
LAST-MODIFIED:20240314T231436Z
UID:7209-1710583200-1710597600@shaspets.com
SUMMARY:Ashley Adoption Event 3/16/24
DESCRIPTION:
URL:https://shaspets.com/calendar/ashley-adoption-event-3-16-24/
LOCATION:Ashley HomeStore\, 3299 Del Rey Blvd.\, Las Cruces\, NM\, 88012\, United States
END:VEVENT
END:VCALENDAR