BEGIN:VCALENDAR
VERSION:2.0
PRODID:-//Safe Haven Animal Sanctuary - ECPv6.15.20//NONSGML v1.0//EN
CALSCALE:GREGORIAN
METHOD:PUBLISH
X-WR-CALNAME:Safe Haven Animal Sanctuary
X-ORIGINAL-URL:https://shaspets.com
X-WR-CALDESC:Events for Safe Haven Animal Sanctuary
REFRESH-INTERVAL;VALUE=DURATION:PT1H
X-Robots-Tag:noindex
X-PUBLISHED-TTL:PT1H
BEGIN:VTIMEZONE
TZID:UTC
BEGIN:STANDARD
TZOFFSETFROM:+0000
TZOFFSETTO:+0000
TZNAME:UTC
DTSTART:20230101T000000
END:STANDARD
END:VTIMEZONE
BEGIN:VEVENT
DTSTART;TZID=UTC:20240615T090000
DTEND;TZID=UTC:20240615T130000
DTSTAMP:20260424T233825
CREATED:20240613T195411Z
LAST-MODIFIED:20240613T195411Z
UID:7239-1718442000-1718456400@shaspets.com
SUMMARY:Ashley Adoption Event 6/15/24
DESCRIPTION:
URL:https://shaspets.com/calendar/ashley-adoption-event-6-15-24/
LOCATION:Ashley HomeStore\, 3299 Del Rey Blvd.\, Las Cruces\, NM\, 88012\, United States
END:VEVENT
END:VCALENDAR