BEGIN:VCALENDAR
VERSION:2.0
PRODID:-//Safe Haven Animal Sanctuary - ECPv6.15.20//NONSGML v1.0//EN
CALSCALE:GREGORIAN
METHOD:PUBLISH
X-WR-CALNAME:Safe Haven Animal Sanctuary
X-ORIGINAL-URL:https://shaspets.com
X-WR-CALDESC:Events for Safe Haven Animal Sanctuary
REFRESH-INTERVAL;VALUE=DURATION:PT1H
X-Robots-Tag:noindex
X-PUBLISHED-TTL:PT1H
BEGIN:VTIMEZONE
TZID:UTC
BEGIN:STANDARD
TZOFFSETFROM:+0000
TZOFFSETTO:+0000
TZNAME:UTC
DTSTART:20230101T000000
END:STANDARD
END:VTIMEZONE
BEGIN:VEVENT
DTSTART;TZID=UTC:20240817T090000
DTEND;TZID=UTC:20240817T130000
DTSTAMP:20260424T205937
CREATED:20240808T195051Z
LAST-MODIFIED:20240808T195051Z
UID:7247-1723885200-1723899600@shaspets.com
SUMMARY:Donate Life Car Show & Adoption Event 8/17/24
DESCRIPTION:
URL:https://shaspets.com/calendar/donate-life-car-show-adoption-event-8-17-24/
LOCATION:Young Park\, 1905 Nevada Ave.\, Las Cruces\, 88001\, United States
ORGANIZER;CN="Las Cruces Transplant Group":MAILTO:lctransplantcarshow@gmail.com
END:VEVENT
END:VCALENDAR