BEGIN:VCALENDAR
VERSION:2.0
PRODID:-//Safe Haven Animal Sanctuary - ECPv6.15.20//NONSGML v1.0//EN
CALSCALE:GREGORIAN
METHOD:PUBLISH
X-ORIGINAL-URL:https://shaspets.com
X-WR-CALDESC:Events for Safe Haven Animal Sanctuary
REFRESH-INTERVAL;VALUE=DURATION:PT1H
X-Robots-Tag:noindex
X-PUBLISHED-TTL:PT1H
BEGIN:VTIMEZONE
TZID:UTC
BEGIN:STANDARD
TZOFFSETFROM:+0000
TZOFFSETTO:+0000
TZNAME:UTC
DTSTART:20230101T000000
END:STANDARD
END:VTIMEZONE
BEGIN:VEVENT
DTSTART;TZID=UTC:20241102T120000
DTEND;TZID=UTC:20241102T150000
DTSTAMP:20260424T164950
CREATED:20241012T202403Z
LAST-MODIFIED:20241012T202403Z
UID:7292-1730548800-1730559600@shaspets.com
SUMMARY:SHAS Open House & Adopter Reunion 11/02/24
DESCRIPTION:
URL:https://shaspets.com/calendar/shas-open-house-adopter-reunion-11-02-24/
LOCATION:Safe Haven Animal Sanctuary\, 6890 Eagle Rd.\, Las Cruces\, NM\, 88012\, United States
ORGANIZER;CN="Safe Haven Animal Sanctuary":MAILTO:info@shaspets.com
END:VEVENT
END:VCALENDAR