BEGIN:VCALENDAR
VERSION:2.0
PRODID:-//Safe Haven Animal Sanctuary - ECPv6.15.20//NONSGML v1.0//EN
CALSCALE:GREGORIAN
METHOD:PUBLISH
X-ORIGINAL-URL:https://shaspets.com
X-WR-CALDESC:Events for Safe Haven Animal Sanctuary
REFRESH-INTERVAL;VALUE=DURATION:PT1H
X-Robots-Tag:noindex
X-PUBLISHED-TTL:PT1H
BEGIN:VTIMEZONE
TZID:UTC
BEGIN:STANDARD
TZOFFSETFROM:+0000
TZOFFSETTO:+0000
TZNAME:UTC
DTSTART:20240101T000000
END:STANDARD
END:VTIMEZONE
BEGIN:VEVENT
DTSTART;TZID=UTC:20251206T100000
DTEND;TZID=UTC:20251206T130000
DTSTAMP:20260423T234116
CREATED:20251204T025027Z
LAST-MODIFIED:20251204T025027Z
UID:7442-1765015200-1765026000@shaspets.com
SUMMARY:Tractor Supply Adoption Event & Donation Drive 12/6/25
DESCRIPTION:
URL:https://shaspets.com/calendar/tractor-supply-adoption-event-donation-drive-12-6-25/
LOCATION:Tractor Supply Co.\, 1440 W. Picacho Ave.\, Las Cruces\, NM\, 88005\, United States
END:VEVENT
END:VCALENDAR